BEGIN:VCALENDAR
VERSION:2.0
PRODID:-//Miami Beach JCC - ECPv6.15.5//NONSGML v1.0//EN
CALSCALE:GREGORIAN
METHOD:PUBLISH
X-WR-CALNAME:Miami Beach JCC
X-ORIGINAL-URL:https://mbjcc.org
X-WR-CALDESC:Events for Miami Beach JCC
REFRESH-INTERVAL;VALUE=DURATION:PT1H
X-Robots-Tag:noindex
X-PUBLISHED-TTL:PT1H
BEGIN:VTIMEZONE
TZID:UTC
BEGIN:STANDARD
TZOFFSETFROM:+0000
TZOFFSETTO:+0000
TZNAME:UTC
DTSTART:20210101T000000
END:STANDARD
END:VTIMEZONE
BEGIN:VEVENT
DTSTART;VALUE=DATE:20211130
DTEND;VALUE=DATE:20220101
DTSTAMP:20260421T120052
CREATED:20211122T005032Z
LAST-MODIFIED:20211122T203056Z
UID:10000220-1638230400-1640995199@mbjcc.org
SUMMARY:Gallery Exhibit: The Joy of Life
DESCRIPTION:The Schwartz-Jacobs Family Gallery Presents\nThe Joy of Life\nNew work by Benito Esquenazi\nOpening Reception: Tuesday\, November 30 at 7:30 pm \nDance of the Drawings Performance following at 9 pm \nThe Joy of Life is a solo exhibition of Benito Esquenazi’s work\, created since the onset of the pandemic. \nIn his paintings and drawings\, he explores the pandemic’s transformations effect on his psyche. \n“We have all experienced collective anxiety\, isolation\, social and political unrest\, unity\, family\, and subsequent aspirational joy we seek following our post-pandemic experience. The Joy of Life exhibit captures this arc.”
URL:https://mbjcc.org/event/gallery-exhibit-the-joy-of-life/
LOCATION:Miami Beach JCC\, 4221 Pine Tree Drive\, Miami Beach\, FL\, 33140\, United States
CATEGORIES:arts + culture + ideas,Gallery
ATTACH;FMTTYPE=image/jpeg:https://mbjcc.org/wp-content/uploads/2021/11/IMG_2351-scaled.jpg
END:VEVENT
BEGIN:VEVENT
DTSTART;VALUE=DATE:20211208
DTEND;VALUE=DATE:20211209
DTSTAMP:20260421T120052
CREATED:20211121T223807Z
LAST-MODIFIED:20211207T204910Z
UID:10000216-1638921600-1639007999@mbjcc.org
SUMMARY:Member Priority Youth Program Registration Begins
DESCRIPTION:
URL:https://mbjcc.org/event/member-priority-youth-program-registration-begins/
LOCATION:Miami Beach JCC\, 4221 Pine Tree Drive\, Miami Beach\, FL\, 33140\, United States
CATEGORIES:Member Event,Program Starts,Youth Event
ATTACH;FMTTYPE=image/jpeg:https://mbjcc.org/wp-content/uploads/2021/11/20210702_140139-scaled.jpg
END:VEVENT
BEGIN:VEVENT
DTSTART;TZID=UTC:20211208T123000
DTEND;TZID=UTC:20211208T143000
DTSTAMP:20260421T120052
CREATED:20211207T214747Z
LAST-MODIFIED:20211207T214747Z
UID:10000222-1638966600-1638973800@mbjcc.org
SUMMARY:MBJCC Literary Series: Jonathan Santlofer\, The Last Mona Lisa
DESCRIPTION:The Last Mona Lisa is an alluring\, fascinating tale predominantly set in Paris during 1911\, as well as present-day Florence\, that takes us into the lives of Vincent Peruggia\, a young man who\, after losing his wife suddenly to illness\, will do whatever it takes to earn enough money to be reunited with his son\, as well as his great-grandson Luke Perrone\, an art historian who is consumed with all things Mona Lisa who heads to Italy to find his great grandfather’s long-lost journal to discover once and for all why he stole the painting\, where it was kept for the two years before it was returned\, and ultimately\, before everyone who knows about the journal\, including himself\, ends up dead\, finally discover whether the original or merely a fake is now actually hanging in the infamous museum.
URL:https://mbjcc.org/event/mbjcc-literary-series-jonathan-santlofer-the-last-mona-lisa/
LOCATION:Miami Beach JCC\, 4221 Pine Tree Drive\, Miami Beach\, FL\, 33140\, United States
CATEGORIES:arts + culture + ideas,Book Events
ATTACH;FMTTYPE=image/jpeg:https://mbjcc.org/wp-content/uploads/2021/12/image-1.jpeg
END:VEVENT
BEGIN:VEVENT
DTSTART;TZID=UTC:20211208T193000
DTEND;TZID=UTC:20211208T213000
DTSTAMP:20260421T120052
CREATED:20211207T215038Z
LAST-MODIFIED:20211207T215206Z
UID:10000224-1638991800-1638999000@mbjcc.org
SUMMARY:Michael Solomon 5-Star Cinema Presents: What’s Up Doc
DESCRIPTION:The Michael Solomon 5-Star Film Series Presents: What’s Up Doc \nWhat’s Up\, Doc? is a 1972 American romantic screwball comedy film released by Warner Bros.\, directed by Peter Bogdanovich and starring Barbra Streisand\, Ryan O’Neal\, and Madeline Kahn. It is intended to pay homage to comedy films of the 1930s and 1940s\, especially Bringing Up Baby and Warner Bros. Bugs Bunny cartoons. \nWhat’s Up\, Doc? was a success\, and became the third-highest-grossing film of 1972. It won the Writers Guild of America 1973 “Best Comedy Written Directly for the Screen” award for Buck Henry\, David Newman\, and Robert Benton. What’s Up\, Doc? was ranked number 61 on the list of the 100 greatest American comedies published by the American Film Institute (AFI)\, number 68 on the AFI’s list of 100 greatest love stories in American cinema\, and number 58 on the list of the WGA’s 101 Funniest Screenplays published by the Writers Guild of America. The film was very loosely based on the novel A Glimpse of Tiger by Herman Raucher.
URL:https://mbjcc.org/event/michael-solomon-5-star-cinema-presents-whats-up-doc/
LOCATION:Miami Beach JCC\, 4221 Pine Tree Drive\, Miami Beach\, FL\, 33140\, United States
CATEGORIES:arts + culture + ideas,Films,Outdoor Event
ATTACH;FMTTYPE=image/jpeg:https://mbjcc.org/wp-content/uploads/2021/12/image-2.jpeg
END:VEVENT
BEGIN:VEVENT
DTSTART;VALUE=DATE:20211210
DTEND;VALUE=DATE:20211211
DTSTAMP:20260421T120052
CREATED:20210901T053641Z
LAST-MODIFIED:20211001T214209Z
UID:10000232-1639094400-1639180799@mbjcc.org
SUMMARY:Last Day of Youth Program Session
DESCRIPTION:
URL:https://mbjcc.org/event/last-day-of-youth-program-session/
LOCATION:FL\, United States
ATTACH;FMTTYPE=image/jpeg:https://mbjcc.org/wp-content/uploads/2021/09/eric-rothermel-FoKO4DpXamQ-unsplash-scaled.jpg
END:VEVENT
BEGIN:VEVENT
DTSTART;TZID=UTC:20211212T193000
DTEND;TZID=UTC:20211212T213000
DTSTAMP:20260421T120052
CREATED:20211207T215341Z
LAST-MODIFIED:20211207T215341Z
UID:10000267-1639337400-1639344600@mbjcc.org
SUMMARY:Special Film Night: On the Map
DESCRIPTION:In 1977\, the Maccabi Tel Aviv basketball team prevailed over CSKA Moscow (known in the West as Red Army)\, a team that refused to play against Israel. Moments after this highly charged and historical win\, Israeli-American basketball hero Tal Brody captured the heart of the nation when he famously said\, “Israel is on the map\, not just in sport\, but in everything.” The story of this triumph against all odds is told through the eyes of six American basketball players who joined Maccabi Tel Aviv. \nSpecial Guest Appearance: Tal Brody \nPresented in partnership with the Miami Jewish Film Festival and Consulate of Israel Miami
URL:https://mbjcc.org/event/special-film-night-on-the-map/
LOCATION:Miami Beach JCC\, 4221 Pine Tree Drive\, Miami Beach\, FL\, 33140\, United States
CATEGORIES:arts + culture + ideas,Films
ATTACH;FMTTYPE=image/jpeg:https://mbjcc.org/wp-content/uploads/2021/12/image-3.jpeg
END:VEVENT
BEGIN:VEVENT
DTSTART;TZID=UTC:20211214T120000
DTEND;TZID=UTC:20211214T140000
DTSTAMP:20260421T120052
CREATED:20211013T170735Z
LAST-MODIFIED:20211122T203230Z
UID:10000263-1639483200-1639490400@mbjcc.org
SUMMARY:MBJCC Book Club: The Hidden Palace\, by Helene Wecker (Virtual)
DESCRIPTION:
URL:https://mbjcc.org/event/mbjcc-book-club-the-hidden-palace-by-helene-wecker-virtual/
LOCATION:FL\, United States
CATEGORIES:arts + culture + ideas,Book Club,Book Events
ATTACH;FMTTYPE=image/jpeg:https://mbjcc.org/wp-content/uploads/2021/10/The-Hiden-Palace.jpeg
END:VEVENT
BEGIN:VEVENT
DTSTART;VALUE=DATE:20211215
DTEND;VALUE=DATE:20211216
DTSTAMP:20260421T120052
CREATED:20211121T224133Z
LAST-MODIFIED:20211122T231205Z
UID:10000218-1639526400-1639612799@mbjcc.org
SUMMARY:Youth Program Registration Open to Community
DESCRIPTION:
URL:https://mbjcc.org/event/member-priority-youth-program-registration-community/
LOCATION:Miami Beach JCC\, 4221 Pine Tree Drive\, Miami Beach\, FL\, 33140\, United States
CATEGORIES:Member Event,Program Starts,Youth Event
ATTACH;FMTTYPE=image/jpeg:https://mbjcc.org/wp-content/uploads/2021/09/ASP-Hero-scaled.jpg
END:VEVENT
BEGIN:VEVENT
DTSTART;TZID=UTC:20211215T123000
DTEND;TZID=UTC:20211215T143000
DTSTAMP:20260421T120052
CREATED:20211207T215906Z
LAST-MODIFIED:20211207T215906Z
UID:10000268-1639571400-1639578600@mbjcc.org
SUMMARY:The Lost Restaurants of Greater Miami with Seth Bramson
DESCRIPTION:In-person and Virtual \nSeth Bramson is “Mr. Miami Memorabilia\,” and he is America’s senior collector of Miami memorabilia and Floridiana. His collection of—as he likes to say—“all that junque!”—is the largest in private hands in America\, but\, and in addition\, his collection of Greater Miami restaurant and club memorabilia is the largest in public or private hands in the country\, not really surprising as he has been collecting for now sixty-three plus years! \nSeth will speak about “The Lost Restaurants of Greater Miami” and will bring artifacts and memorabilia to his presentation.
URL:https://mbjcc.org/event/the-lost-restaurants-of-greater-miami-with-seth-bramson/
LOCATION:Miami Beach JCC\, 4221 Pine Tree Drive\, Miami Beach\, FL\, 33140\, United States
CATEGORIES:arts + culture + ideas,Book Events
ATTACH;FMTTYPE=image/jpeg:https://mbjcc.org/wp-content/uploads/2021/12/image-4.jpeg
END:VEVENT
BEGIN:VEVENT
DTSTART;TZID=UTC:20211216T130000
DTEND;TZID=UTC:20211216T150000
DTSTAMP:20260421T120052
CREATED:20211207T220124Z
LAST-MODIFIED:20211207T220833Z
UID:10000269-1639659600-1639666800@mbjcc.org
SUMMARY:Florida Book Series: Lori Kaufmann\, Rebel Daughter
DESCRIPTION:Welcome to the Florida JCCs Book & Author Series. \nLori Kaufmann\, The Rebel Daughter \nA young woman survives the unthinkable in this stunning and emotionally satisfying tale of family\, love\, and resilience\, set against the destruction of Jerusalem in 70 CE. \nLORI BANOV KAUFMANN was a strategy consultant for high-tech companies before she became a writer. She has an AB from Princeton University and an MBA from the Harvard Business School. When she learned about the discovery of the first-century tombstone\, she wanted to know more. She was captivated by the ancient love story the stone revealed\, which served as the inspiration for this book. Rebel Daughter is her debut novel. Lori Banov Kaufmann lives in Israel with her husband and four adult children.
URL:https://mbjcc.org/event/florida-book-series-lori-kaufmann-rebel-daughter/
LOCATION:FL\, United States
CATEGORIES:arts + culture + ideas,Book Events
ATTACH;FMTTYPE=image/jpeg:https://mbjcc.org/wp-content/uploads/2021/12/image-5.jpeg
END:VEVENT
BEGIN:VEVENT
DTSTART;TZID=UTC:20211220T080000
DTEND;TZID=UTC:20211230T170000
DTSTAMP:20260421T120052
CREATED:20210901T053720Z
LAST-MODIFIED:20211122T202836Z
UID:10000233-1639987200-1640883600@mbjcc.org
SUMMARY:Winter Camp
DESCRIPTION:
URL:https://mbjcc.org/event/winter-camp/
LOCATION:FL\, United States
CATEGORIES:Camp
ATTACH;FMTTYPE=image/jpeg:https://mbjcc.org/wp-content/uploads/2021/10/WinterCamp-1-01-01-scaled.jpg
END:VEVENT
BEGIN:VEVENT
DTSTART;VALUE=DATE:20211224
DTEND;VALUE=DATE:20211225
DTSTAMP:20260421T120052
CREATED:20210901T053754Z
LAST-MODIFIED:20211001T214046Z
UID:10000234-1640304000-1640390399@mbjcc.org
SUMMARY:Christmas Eve
DESCRIPTION:Pool & Fitness Only\nChristmas Eve
URL:https://mbjcc.org/event/christmas-eve/
LOCATION:FL\, United States
ATTACH;FMTTYPE=image/jpeg:https://mbjcc.org/wp-content/uploads/2021/09/eric-rothermel-FoKO4DpXamQ-unsplash-scaled.jpg
END:VEVENT
BEGIN:VEVENT
DTSTART;TZID=UTC:20211225T080000
DTEND;TZID=UTC:20211225T170000
DTSTAMP:20260421T120052
CREATED:20210901T053823Z
LAST-MODIFIED:20211001T214054Z
UID:10000235-1640419200-1640451600@mbjcc.org
SUMMARY:Christmas
DESCRIPTION:
URL:https://mbjcc.org/event/christmas/
LOCATION:FL\, United States
ATTACH;FMTTYPE=image/jpeg:https://mbjcc.org/wp-content/uploads/2021/09/eric-rothermel-FoKO4DpXamQ-unsplash-scaled.jpg
END:VEVENT
END:VCALENDAR