BEGIN:VCALENDAR
VERSION:2.0
PRODID:-//Miami Beach JCC - ECPv6.15.5//NONSGML v1.0//EN
CALSCALE:GREGORIAN
METHOD:PUBLISH
X-WR-CALNAME:Miami Beach JCC
X-ORIGINAL-URL:https://mbjcc.org
X-WR-CALDESC:Events for Miami Beach JCC
REFRESH-INTERVAL;VALUE=DURATION:PT1H
X-Robots-Tag:noindex
X-PUBLISHED-TTL:PT1H
BEGIN:VTIMEZONE
TZID:America/New_York
BEGIN:DAYLIGHT
TZOFFSETFROM:-0500
TZOFFSETTO:-0400
TZNAME:EDT
DTSTART:20250309T070000
END:DAYLIGHT
BEGIN:STANDARD
TZOFFSETFROM:-0400
TZOFFSETTO:-0500
TZNAME:EST
DTSTART:20251102T060000
END:STANDARD
END:VTIMEZONE
BEGIN:VEVENT
DTSTART;TZID=America/New_York:20250611T130000
DTEND;TZID=America/New_York:20250611T140000
DTSTAMP:20260423T154757
CREATED:20250521T160236Z
LAST-MODIFIED:20250521T160236Z
UID:10000655-1749646800-1749650400@mbjcc.org
SUMMARY:JCC-U Virtual Summer Series - Alan Mason
DESCRIPTION:Please join us for our JCC-U Virtual Summer Lunch and Learn Series. \nWednesday\, June 11 at 1:00 pm with Dr. Alan Mason for Music Appreciation \nDr. Alan Mason has had a 32 year career as a professor on four different college campuses before retiring from Barry University as an Associate Professor of Music. Alan is one of the nation’s most noted accompanists to cantors and sacred Jewish music concerts\, conferences\, conventions\, and events\, He is a regular accompanist for the Union for Reform Judaism\, the Cantors Assembly\, the American Conference of Cantors\, the Jewish Theological Seminary\, the Guild of Temple Musicians\, and the Zamir Choral Foundation. Alan is the conductor of HaZamir Miami\, a chapter of HaZamir: The International Jewish Teen Choir\, and is a Past President of the Guild of Temple Musicians. Alan is the Musical Director at Bet Shira Congregation in Miami\, Florida.  \nTopic: JCC-U Summer Virtual Lunch and Learn: Alan Mason \nTime: Jun 11\, 2025 01:00 PM Eastern Time (US and Canada) \nJoin Zoom Meeting \nhttps://us02web.zoom.us/j/82035235848 \nMeeting ID: 820 3523 5848 \nOne tap mobile \n+13052241968\,\,82035235848# US \n+13126266799\,\,82035235848# US (Chicago) \nMeeting ID: 820 3523 5848 \nGenerously sponsored by Baptist Health
URL:https://mbjcc.org/event/jcc-u-virtual-summer-series-alan-mason/
LOCATION:Virtual
ATTACH;FMTTYPE=image/jpeg:https://mbjcc.org/wp-content/uploads/2025/05/alan-mason.jpg
ORGANIZER;CN="Ariel Rounds":MAILTO:ariel@mbjcc.org
END:VEVENT
END:VCALENDAR