BEGIN:VCALENDAR
VERSION:2.0
PRODID:-//Miami Beach JCC - ECPv6.15.5//NONSGML v1.0//EN
CALSCALE:GREGORIAN
METHOD:PUBLISH
X-WR-CALNAME:Miami Beach JCC
X-ORIGINAL-URL:https://mbjcc.org
X-WR-CALDESC:Events for Miami Beach JCC
REFRESH-INTERVAL;VALUE=DURATION:PT1H
X-Robots-Tag:noindex
X-PUBLISHED-TTL:PT1H
BEGIN:VTIMEZONE
TZID:America/New_York
BEGIN:DAYLIGHT
TZOFFSETFROM:-0500
TZOFFSETTO:-0400
TZNAME:EDT
DTSTART:20250309T070000
END:DAYLIGHT
BEGIN:STANDARD
TZOFFSETFROM:-0400
TZOFFSETTO:-0500
TZNAME:EST
DTSTART:20251102T060000
END:STANDARD
END:VTIMEZONE
BEGIN:VEVENT
DTSTART;TZID=America/New_York:20251020T190000
DTEND;TZID=America/New_York:20251020T210000
DTSTAMP:20260419T225419
CREATED:20250822T165023Z
LAST-MODIFIED:20251001T175702Z
UID:10000667-1760986800-1760994000@mbjcc.org
SUMMARY:Opening Night Art Exhibition Reception & October 7 Memorial Ceremony | While Israel Slept - Yaakov Katz
DESCRIPTION:You don’t want to miss this incredible evening on Monday\, October 20\, with Yaakov Katz\, former editor-in-chief of the Jerusalem Post\, in conversation about his powerful new book: While Israel Slept: How Hamas Surprised the Most Powerful Military in the Middle East. \nHe will be in conversation with Dr. Bella Krieger\, Director of Adult Learning and Growth for CAJE. \nEvent Tickets\nThis book reveals\, through a detailed examination of the events leading up to October 7\, 2023\, the intelligence and strategic failures that enabled this devastating invasion. It takes readers back in time\, showing how years of complacency\, mistaken intelligence analysis\, and a misguided policy of containment enabled Hamas to prepare for an assault that Israel did not believe was possible and that would change the Middle East. \nYaakov Katz is the former editor-in-chief of The Jerusalem Post. He writes for Newsweek and The Jewish Chronicle\, hosts the JPPI weekly podcast\, and has appeared on CNN and BBC. He is the author of Shadow Strike and the co-author with Amir Bohbot of Weapon Wizards. \nThe Schwartz-Jacobs Family Gallery Presents:\n-Opening Night Reception & October 7 Memorial Ceremony\n-No Words\n-Israeli Art Exhibition\nFree and Open to the Community\nOffering a space for reflection and healing beyond words.
URL:https://mbjcc.org/event/while-israel-slept-yaakov-katz/
LOCATION:Miami Beach JCC\, 4221 Pine Tree Drive\, Miami Beach\, FL\, 33140\, United States
CATEGORIES:Conversations,Special Event
ATTACH;FMTTYPE=image/jpeg:https://mbjcc.org/wp-content/uploads/2025/08/WhileIsraelSlept.jpg
END:VEVENT
BEGIN:VEVENT
DTSTART;TZID=America/New_York:20251021T110000
DTEND;TZID=America/New_York:20251021T130000
DTSTAMP:20260419T225419
CREATED:20250919T184348Z
LAST-MODIFIED:20251021T164926Z
UID:10000672-1761044400-1761051600@mbjcc.org
SUMMARY:Game Time Kickoff Event – Try It All! Free and open to all!
DESCRIPTION:Curious about our game classes? Come try our supervised and open play sessions for Canasta\, Bridge\, Mah Jongg\, and more! Meet the teachers\, enjoy light refreshments\, register for upcoming classes\, and have fun playing in a relaxed\, social setting. \nGames Sign Up
URL:https://mbjcc.org/event/game-time-kickoff-event-try-it-all-free-and-open-to-all/
LOCATION:FL
CATEGORIES:Games
ATTACH;FMTTYPE=image/jpeg:https://mbjcc.org/wp-content/uploads/2025/09/mah-jongg-2025.jpg
ORGANIZER;CN="Danny Reed":MAILTO:danny@mbjcc.org
END:VEVENT
BEGIN:VEVENT
DTSTART;TZID=America/New_York:20251022T123000
DTEND;TZID=America/New_York:20251022T200000
DTSTAMP:20260419T225419
CREATED:20250925T154857Z
LAST-MODIFIED:20250925T155338Z
UID:10000676-1761136200-1761163200@mbjcc.org
SUMMARY:Breast Cancer Awareness Month Lunch & Learn
DESCRIPTION:Breast Cancer Awareness Month Lunch & Learn: \nFrom Awareness to Action: Breast & Ovarian Cancer Education \nWednesday\, Oct 22nd\, 2025 12:30 PM \nRSVP: Sign Up Here \nCo-sponsored with Sharsheret\, a Jewish Breast Cancer Organization \nYou’re invited to a special Lunch & Learn event\, “From Awareness to Action: Breast & Ovarian Cancer Education\,” hosted by the Miami Beach JCC in collaboration with Sharsheret. \nLearn about the latest advances in Breast & Ovarian Cancer detection and treatment with two experts in the field\, from the Sylvester Cancer Center. The program will include screening guidelines and other pertinent information from Sharsheret to support our discussion
URL:https://mbjcc.org/event/breast-cancer-awareness-month-lunch-learn/
LOCATION:FL
ATTACH;FMTTYPE=image/png:https://mbjcc.org/wp-content/uploads/2025/09/Breastcancer-3-01-scaled.png
END:VEVENT
END:VCALENDAR