BEGIN:VCALENDAR
VERSION:2.0
PRODID:-//Miami Beach JCC - ECPv6.15.5//NONSGML v1.0//EN
CALSCALE:GREGORIAN
METHOD:PUBLISH
X-WR-CALNAME:Miami Beach JCC
X-ORIGINAL-URL:https://mbjcc.org
X-WR-CALDESC:Events for Miami Beach JCC
REFRESH-INTERVAL;VALUE=DURATION:PT1H
X-Robots-Tag:noindex
X-PUBLISHED-TTL:PT1H
BEGIN:VTIMEZONE
TZID:America/New_York
BEGIN:DAYLIGHT
TZOFFSETFROM:-0500
TZOFFSETTO:-0400
TZNAME:EDT
DTSTART:20250309T070000
END:DAYLIGHT
BEGIN:STANDARD
TZOFFSETFROM:-0400
TZOFFSETTO:-0500
TZNAME:EST
DTSTART:20251102T060000
END:STANDARD
END:VTIMEZONE
BEGIN:VEVENT
DTSTART;TZID=America/New_York:20250421T153000
DTEND;TZID=America/New_York:20250421T163000
DTSTAMP:20260425T071247
CREATED:20250404T204951Z
LAST-MODIFIED:20250404T204951Z
UID:10000645-1745249400-1745253000@mbjcc.org
SUMMARY:FL JCC Virtual Author Event - Susan & David Schwartz
DESCRIPTION:Join us for our virtual FL JCC Author Series with The Joy of Costco\, Susan and David Schwartz. \nJoin David and Susan Schwartz\, a mar­ried Jew­ish cou­ple\, on a whirl­wind tour of Cost­co ware­hous­es around the globe. They are two of Costco’s biggest fans yet live in one of NYC’s small­est apart­ments.  \nSince 2016\, they have been to over 250 of Costco’s 850+ ware­hous­es\, plus got­ten behind-the-scenes looks at one of the world’s favorite retail­ers.  \nTop­ics are cov­ered in a whim­si­cal A to Z for­mat\, using Q & A to delight the more than 128 mil­lion Cost­co mem­bers and over 300\,000 ded­i­cat­ed Cost­co employ­ees. \nSusan Schwartz received a BA from the Uni­ver­si­ty of Penn­syl­va­nia and an MBA from Colum­bia Uni­ver­si­ty\, then worked in mar­ket­ing at Nabis­co and Gen­er­al Foods. After leav­ing cor­po­rate Amer­i­ca\, she worked free­lance mak­ing TV com­mer­cials for thir­teen years before join­ing her hus­band in exec­u­tive search. She worked as a bak­er for two years after col­lege. She grew up in Philly. \nDavid Schwartz is the author of sev­er­al books\, includ­ing most recent­ly The Last Man Who Knew Every­thing: The Life and Times of Enri­co Fer­mi\, Father of the Nuclear Age (Basic Books\, 2017). He holds a BA from Stan­ford and a PhD from MIT. He has had a var­ied career\, as a for­eign pol­i­cy spe­cial­ist\, an invest­ment banker\, and HR consultant.
URL:https://mbjcc.org/event/fl-jcc-virtual-author-event-susan-david-schwartz/
LOCATION:Miami Beach JCC\, 4221 Pine Tree Drive\, Miami Beach\, FL\, 33140\, United States
ATTACH;FMTTYPE=image/jpeg:https://mbjcc.org/wp-content/uploads/2025/04/full.jpg
END:VEVENT
BEGIN:VEVENT
DTSTART;TZID=America/New_York:20250423T123000
DTEND;TZID=America/New_York:20250423T133000
DTSTAMP:20260425T071247
CREATED:20250409T165643Z
LAST-MODIFIED:20250409T165643Z
UID:10000646-1745411400-1745415000@mbjcc.org
SUMMARY:JCC-U Lunch and Learn - Yom Hashoah Commemoration
DESCRIPTION:Please join us for a very special Lunch and Learn on Wednesday\, April 23\, 12:30 PM for a Yom Hashoah – Holocaust Memorial Day Commemoration: Hearing “The Last Ones” Speak \nWith Special Guests\, \nDr. Miriam Klein Kassenoff will tell of her family’s escape from Nazi Occupied Europe. \nLeslie Benitah Gelrubin\, journalist and producer\, will present clips from her documentary\, The Last Ones \nBoth will be in conversation with Stephanie Rosen\, founder of 3G Miami.
URL:https://mbjcc.org/event/jcc-u-lunch-and-learn-yom-hashoah-commemoration/
LOCATION:Miami Beach JCC\, 4221 Pine Tree Drive\, Miami Beach\, FL\, 33140\, United States
ATTACH;FMTTYPE=image/jpeg:https://mbjcc.org/wp-content/uploads/2025/04/miriam.k.kassenoff.jpeg
END:VEVENT
BEGIN:VEVENT
DTSTART;TZID=America/New_York:20250424T193000
DTEND;TZID=America/New_York:20250424T213000
DTSTAMP:20260425T071247
CREATED:20250410T140645Z
LAST-MODIFIED:20250410T140645Z
UID:10000648-1745523000-1745530200@mbjcc.org
SUMMARY:World Zionist Congress Open House
DESCRIPTION:Please join us for an insightful evening and open house to learn about the World Zionist Congress Elections currently being held on Thursday\, April 24th at 7:30 pm. \nThis is an opportunity for you to be a part Jewish History. \nMeet representatives of the 22 slates running for spaces on the American delegation and learn how can participate in the elections to the 39th World Zionist Congress\, the “parliament of the Jewish People.” \nFind out how your vote can help make decisions regarding key institutions that allocate over $1 BILLION annually to support Israel and Jewish communities. \nThe election is organized and facilitated by the American Zionist Movement (AZM) \nYou can vote for one of 22 slates of candidates submitted by Zionist groups.
URL:https://mbjcc.org/event/world-zionist-congress-open-house/
LOCATION:Miami Beach JCC\, 4221 Pine Tree Drive\, Miami Beach\, FL\, 33140\, United States
ATTACH;FMTTYPE=image/jpeg:https://mbjcc.org/wp-content/uploads/2025/04/VOTE-24_logo-slogan_3-scaled-1.jpg
END:VEVENT
END:VCALENDAR