BEGIN:VCALENDAR
VERSION:2.0
PRODID:-//Miami Beach JCC - ECPv6.15.5//NONSGML v1.0//EN
CALSCALE:GREGORIAN
METHOD:PUBLISH
X-WR-CALNAME:Miami Beach JCC
X-ORIGINAL-URL:https://mbjcc.org
X-WR-CALDESC:Events for Miami Beach JCC
REFRESH-INTERVAL;VALUE=DURATION:PT1H
X-Robots-Tag:noindex
X-PUBLISHED-TTL:PT1H
BEGIN:VTIMEZONE
TZID:America/New_York
BEGIN:DAYLIGHT
TZOFFSETFROM:-0500
TZOFFSETTO:-0400
TZNAME:EDT
DTSTART:20250309T070000
END:DAYLIGHT
BEGIN:STANDARD
TZOFFSETFROM:-0400
TZOFFSETTO:-0500
TZNAME:EST
DTSTART:20251102T060000
END:STANDARD
END:VTIMEZONE
BEGIN:VEVENT
DTSTART;TZID=America/New_York:20250402T123000
DTEND;TZID=America/New_York:20250402T133000
DTSTAMP:20260423T092647
CREATED:20250312T134732Z
LAST-MODIFIED:20250324T211019Z
UID:10000633-1743597000-1743600600@mbjcc.org
SUMMARY:JCCU-Lunch and Learn- Fiddler On the Roof
DESCRIPTION:12:30 PM – JCC-U Lunch and Learn: Join us for a lunch and learn with our drama teacher and actor in residence – John Dalton who will be presenting a class about the production of Fiddler on the Roof at the Carnival Studio Theater of the Adrienne Arsht Center. \nArtistic director Stuart Meltzer has a history of presenting fresh\, bold interpretations of classics of the musical theater canon\, focusing on the intimacy of performance and storytelling. In that tradition\, Zoetic Stage will present Fiddler on the Roof\, the brainchild of Broadway legends Jerome Robbins and Harold Prince\, songwriters Jerry Bock and Sheldon Harnick and book writer Joseph Stein. \nSet in the village of Anatevka\, the story centers on Tevye\, a poor milkman\, and his five daughters as he tries to protect them and instill them with traditional values in the face of changing social mores and the growing anti-Semitism of Czarist Russia. Fiddler on the Roof’s universal theme of tradition cuts across barriers of race\, class\, nationality and religion. With iconic and beloved songs such as “Sunrise\, Sunset\,” “If I Were a Rich Man” and “Matchmaker\, Matchmaker\,” Fiddler on the Roof is a story of humor\, heart and honesty. \nThen join John and a group from the MBJCC on Sunday\, April 6 to see the play for a matinee performance. \nThe Lunch and Learn is part of our Wednesday’s at the JCC – JCC-U \n9:15 AM – Coffee\, Conversation and Surprise Topic \nKickstart your JCC-U Day with the perfect blend of coffee\, engaging conversation\, and a dash of surprise topics. \nJoin the lively discussions led by the Moderator/Host\, Dr. Miriam Klein Kassenoff. \n10 AM – Music Appreciation with Dr. Alan Mason \n11:15 AM – Art History experience with Batia Cohen \n12:30 PM – JCC-U Lunch and Learn: with John Dalton presenting about Fiddler on the Roof! \nJCC-U Day of Learning \n$30 per week (Includes Lunch) \nMembers & Patrons: FREE (Includes Lunch) \nThis program was made possible by the generous support from Baptist Health
URL:https://mbjcc.org/event/matinee-performance-fiddler-on-the-roof/
LOCATION:Miami Beach JCC\, 4221 Pine Tree Drive\, Miami Beach\, FL\, 33140\, United States
ATTACH;FMTTYPE=image/png:https://mbjcc.org/wp-content/uploads/2025/03/RRT_Fiddler_Horizontal.png
END:VEVENT
BEGIN:VEVENT
DTSTART;TZID=America/New_York:20250403T193000
DTEND;TZID=America/New_York:20250403T210000
DTSTAMP:20260423T092647
CREATED:20250324T204002Z
LAST-MODIFIED:20250324T205102Z
UID:10000636-1743708600-1743714000@mbjcc.org
SUMMARY:Mimouna Celebration with Lehem Zeh
DESCRIPTION:Mimouna Celebration at Miami Beach JCC \nJoin us on April 3rd at the Miami Beach JCC for a special Mimouna celebration! This festive event will feature two amazing bakers from our sister city\, Yeroham\, showcasing delicious traditional treats. It’s a wonderful opportunity to experience the rich culture and flavors of Mimouna. \nCome learn about and celebrate the food and traditions of Mimouna! What is Mimouna? It is a Jewish holiday that celebrates the end of Passover and is celebrated by Moroccan Jews and other Jewish communities. The name may come from the words “M” for Messiah and “emouna” which means “faith” \nDon’t miss out on this fun and meaningful celebration filled with great food! Learn new traditions!
URL:https://mbjcc.org/event/mimouna-celebration-with-lehem-zeh/
LOCATION:Miami Beach JCC\, 4221 Pine Tree Drive\, Miami Beach\, FL\, 33140\, United States
ATTACH;FMTTYPE=image/jpeg:https://mbjcc.org/wp-content/uploads/2025/03/Mimouna-3.24.updated-3.jpg
END:VEVENT
BEGIN:VEVENT
DTSTART;TZID=America/New_York:20250406T143000
DTEND;TZID=America/New_York:20250406T163000
DTSTAMP:20260423T092647
CREATED:20250402T155340Z
LAST-MODIFIED:20250402T155340Z
UID:10000643-1743949800-1743957000@mbjcc.org
SUMMARY:Matinee Performance - Fiddler on the Roof
DESCRIPTION:Matinee performance of Fiddler on the Roof on Sunday\, April 6 at 2:30 pm.  This play is performned at the Carnival Studio Theater at the Arstht Center. \nBased on the novel by Sholem Aleiche\, Fiddler on the Roof first premiered on Broadway in 1964\, before going on to be adapted into an eight-time Academy Award nominated movie.  Since then it has become a standard of American musical theatre\, and the hilarious story elicits positive responses wherever it is played. \nExperience the fresh\, bold interpretation of this timeless classic. Fiddler on the Roof’s universal theme of tradition cuts across barriers of race\, class\, nationality and religion. With iconic and beloved songs such as “Sunrise\, Sunset\,” “If I Were a Rich Man” and “Matchmaker\, Matchmaker\,” Fiddler on the Roof is a story of humor\, heart and honesty.
URL:https://mbjcc.org/event/matinee-performance-fiddler-on-the-roof-2/
LOCATION:Carnival Studio Theater at the Arsht Center
ATTACH;FMTTYPE=image/png:https://mbjcc.org/wp-content/uploads/2025/04/images.png
END:VEVENT
END:VCALENDAR