BEGIN:VCALENDAR
VERSION:2.0
PRODID:-//Miami Beach JCC - ECPv6.15.5//NONSGML v1.0//EN
CALSCALE:GREGORIAN
METHOD:PUBLISH
X-WR-CALNAME:Miami Beach JCC
X-ORIGINAL-URL:https://mbjcc.org
X-WR-CALDESC:Events for Miami Beach JCC
REFRESH-INTERVAL;VALUE=DURATION:PT1H
X-Robots-Tag:noindex
X-PUBLISHED-TTL:PT1H
BEGIN:VTIMEZONE
TZID:UTC
BEGIN:STANDARD
TZOFFSETFROM:+0000
TZOFFSETTO:+0000
TZNAME:UTC
DTSTART:20240101T000000
END:STANDARD
END:VTIMEZONE
BEGIN:VEVENT
DTSTART;TZID=UTC:20241014T193000
DTEND;TZID=UTC:20241014T210000
DTSTAMP:20260420T124158
CREATED:20241014T013347Z
LAST-MODIFIED:20241014T021341Z
UID:10000561-1728934200-1728939600@mbjcc.org
SUMMARY:Art Exhibition Opening - Hashivenu
DESCRIPTION:Please join us on Monday\, October 14\, at 7:30 p.m. for the opening reception of “Hashivenu\,” a very special art exhibition at Miami Beach commemorating October 7 and dedicated to the resilience of Israel and the Jewish people. We will be honoring IDF veterans as well as the Loving Moms organization\, which does so much in the community to fight antisemitism and support the Hostages and Israel. \n“Hashivenu” means “return us.” The “us” is the Jewish people. It is a cry to be renewed while cultivating resilience. It is how the Jewish People have survived for thousands of years and how we will continue to do so. October 7th is firmly embedded in Jewish history as a day of unmitigated tragedy; what has resulted is an expression of “Hashivenu.”  This exhibition honors everyone – those who were murdered\, those who were kidnapped\, those who defend\, and those who renew. \nThis exhibition is made possible with the generous assistance of the Jewish Federations of North America. \nIlan Block is a New Jersey-born artist who creates meaningful and unique digital portraits and art that represent the entire range of the Jewish experience. \nLoving Moms is a Florida-based group of passionate women dedicated to promoting community engagement\, combating antisemitism\, raising awareness about the hostages\, and fostering a supportive environment for those affected.
URL:https://mbjcc.org/event/art-exhibition-opening-hashivenu/
LOCATION:Miami Beach JCC\, 4221 Pine Tree Drive\, Miami Beach\, FL\, 33140\, United States
ATTACH;FMTTYPE=image/jpeg:https://mbjcc.org/wp-content/uploads/2024/10/hero.jpg
END:VEVENT
END:VCALENDAR