BEGIN:VCALENDAR
VERSION:2.0
PRODID:-//Miami Beach JCC - ECPv6.15.5//NONSGML v1.0//EN
CALSCALE:GREGORIAN
METHOD:PUBLISH
X-WR-CALNAME:Miami Beach JCC
X-ORIGINAL-URL:https://mbjcc.org
X-WR-CALDESC:Events for Miami Beach JCC
REFRESH-INTERVAL;VALUE=DURATION:PT1H
X-Robots-Tag:noindex
X-PUBLISHED-TTL:PT1H
BEGIN:VTIMEZONE
TZID:UTC
BEGIN:STANDARD
TZOFFSETFROM:+0000
TZOFFSETTO:+0000
TZNAME:UTC
DTSTART:20220101T000000
END:STANDARD
END:VTIMEZONE
BEGIN:VEVENT
DTSTART;TZID=UTC:20220530T080000
DTEND;TZID=UTC:20220530T170000
DTSTAMP:20260423T210704
CREATED:20210901T054927Z
LAST-MODIFIED:20211001T204845Z
UID:10000252-1653897600-1653930000@mbjcc.org
SUMMARY:Memorial Day
DESCRIPTION:No After-School
URL:https://mbjcc.org/event/memorial-day/
LOCATION:FL\, United States
CATEGORIES:Holiday Hours
ATTACH;FMTTYPE=image/jpeg:https://mbjcc.org/wp-content/uploads/2021/09/eric-rothermel-FoKO4DpXamQ-unsplash-scaled.jpg
END:VEVENT
BEGIN:VEVENT
DTSTART;VALUE=DATE:20220531
DTEND;VALUE=DATE:20220604
DTSTAMP:20260423T210704
CREATED:20220523T233744Z
LAST-MODIFIED:20220523T233744Z
UID:10000320-1653955200-1654300799@mbjcc.org
SUMMARY:Winter/Spring Youth Program Make Up Classes
DESCRIPTION:
URL:https://mbjcc.org/event/winter-spring-youth-programs-end-2/
LOCATION:FL\, United States
ATTACH;FMTTYPE=image/jpeg:https://mbjcc.org/wp-content/uploads/2021/09/eric-rothermel-FoKO4DpXamQ-unsplash-scaled.jpg
END:VEVENT
BEGIN:VEVENT
DTSTART;TZID=UTC:20220604T053000
DTEND;TZID=UTC:20220604T160000
DTSTAMP:20260423T210704
CREATED:20210901T055026Z
LAST-MODIFIED:20211001T204833Z
UID:10000253-1654320600-1654358400@mbjcc.org
SUMMARY:Erev Shavuot
DESCRIPTION:
URL:https://mbjcc.org/event/erev-shavuot/
LOCATION:FL\, United States
CATEGORIES:Holiday Hours
ATTACH;FMTTYPE=image/jpeg:https://mbjcc.org/wp-content/uploads/2021/09/eric-rothermel-FoKO4DpXamQ-unsplash-scaled.jpg
END:VEVENT
BEGIN:VEVENT
DTSTART;VALUE=DATE:20220605
DTEND;VALUE=DATE:20220606
DTSTAMP:20260423T210704
CREATED:20210901T055046Z
LAST-MODIFIED:20211001T204815Z
UID:10000254-1654387200-1654473599@mbjcc.org
SUMMARY:Shavuot
DESCRIPTION:CLOSED
URL:https://mbjcc.org/event/shavuot/
LOCATION:FL\, United States
CATEGORIES:Holiday Hours
ATTACH;FMTTYPE=image/jpeg:https://mbjcc.org/wp-content/uploads/2021/09/eric-rothermel-FoKO4DpXamQ-unsplash-scaled.jpg
END:VEVENT
END:VCALENDAR