BEGIN:VCALENDAR
VERSION:2.0
PRODID:-//Miami Beach JCC - ECPv6.15.5//NONSGML v1.0//EN
CALSCALE:GREGORIAN
METHOD:PUBLISH
X-ORIGINAL-URL:https://mbjcc.org
X-WR-CALDESC:Events for Miami Beach JCC
REFRESH-INTERVAL;VALUE=DURATION:PT1H
X-Robots-Tag:noindex
X-PUBLISHED-TTL:PT1H
BEGIN:VTIMEZONE
TZID:UTC
BEGIN:STANDARD
TZOFFSETFROM:+0000
TZOFFSETTO:+0000
TZNAME:UTC
DTSTART:20220101T000000
END:STANDARD
END:VTIMEZONE
BEGIN:VEVENT
DTSTART;TZID=UTC:20220125T193000
DTEND;TZID=UTC:20220125T210000
DTSTAMP:20260424T165830
CREATED:20220113T193943Z
LAST-MODIFIED:20220120T222639Z
UID:10000280-1643139000-1643144400@mbjcc.org
SUMMARY:Pandemic Inspiration: The Joy of Life in Conversation with Artist Benito Esquenazi
DESCRIPTION:PANDEMIC INSPIRATION: THE JOY OF LIFE EXHIBITION\nModerated by Mindy Solomon\nMindy Solomon Gallery \nIN-PERSON AND VIRTUAL \n  \nThe Joy of Life exhibition is filling the walls of the Schwartz-Jacobs Family Gallery of the JCC with vibrant colors and images. The paintings were produced over the last two years by Cuban Jewish Artist Benito Esquenazi as a way to process the transformative effect the pandemic had on his psyche.\nJoin us for an eye-opening evening in conversation with the creator of “The Joy of Life” Exhibition. \nModerator Mindy Solomon established her gallery in 2009. She is active in the Miami art community and the Miami Beach JCC.
URL:https://mbjcc.org/event/gallery-exhibit-the-joy-of-life-2/
LOCATION:Miami Beach JCC\, 4221 Pine Tree Drive\, Miami Beach\, FL\, 33140\, United States
CATEGORIES:arts + culture + ideas,Conversations,Special Event
ATTACH;FMTTYPE=image/jpeg:https://mbjcc.org/wp-content/uploads/2021/11/IMG_2351-scaled.jpg
END:VEVENT
BEGIN:VEVENT
DTSTART;TZID=UTC:20220126T123000
DTEND;TZID=UTC:20220126T143000
DTSTAMP:20260424T165830
CREATED:20211216T194943Z
LAST-MODIFIED:20220103T193057Z
UID:10000273-1643200200-1643207400@mbjcc.org
SUMMARY:Lunch & Learn: International Holocaust Remembrance Day
DESCRIPTION:In Honor of International Holocaust Remembrance Day:\nWhy I Must Tell My Grandparents Story: Panel discussion with Third Generation (3G) Members. \nJoin Holocaust Survivor Dr. Miriam Klein Kassenoff and three members of the 3G\, grandchildren of the Holocaust Survivor generation group as they discuss their grandparents’ histories and why they have taken up the gauntlet in making sure the experiences of their families in the Holocaust will never be forgotten.
URL:https://mbjcc.org/event/international-holocaust-remembrance-day/
LOCATION:Miami Beach JCC\, 4221 Pine Tree Drive\, Miami Beach\, FL\, 33140\, United States
CATEGORIES:Adult Learning,arts + culture + ideas,Lunch & Learn
ATTACH;FMTTYPE=image/jpeg:https://mbjcc.org/wp-content/uploads/2021/12/Miriam-Klein-Kassenoff.jpeg
END:VEVENT
BEGIN:VEVENT
DTSTART;TZID=UTC:20220126T190000
DTEND;TZID=UTC:20220126T210000
DTSTAMP:20260424T165830
CREATED:20220120T223646Z
LAST-MODIFIED:20220120T223646Z
UID:10000281-1643223600-1643230800@mbjcc.org
SUMMARY:An Evening of Comedy with Wayne Federman: Author of The History of Standup
DESCRIPTION:Join us for a fun evening with Emmy Award-nominated comedian Wayne Federman. \nWayne Fed­er­man is a stand-up\, actor\, pro­fes­sor\, and author. He’s appeared on The Tonight Show five times and has his own spe­cial on Com­e­dy Cen­tral. He has act­ed in numer­ous films and TV shows includ­ing Curb Your Enthu­si­asm\, Sil­i­con Val­ley\, Lar­ry Sanders\, Com­mu­ni­ty\, Legal­ly Blonde\, Knocked Up\, Step Broth­ers\, 50 First Dates\, and Fun­ny Peo­ple. Wayne co-pro­duced the Emmy-win­ning doc­u­men­tary The Zen Diaries of Gar­ry Shan­dling and is cur­rent­ly pro­duc­ing a George Car­lin doc­u­men­tary for HBO. Wayne is also an adjunct pro­fes­sor of stand-up his­to­ry and per­for­mance at USC. He was part of the first stand-up com­e­dy tour of Israel after the 2001 Intifada. \nHis book\, The His­to­ry of Stand-Up\, chron­i­cles the incred­i­ble evo­lu­tion of this Amer­i­can art form – from its ear­li­est pre-vaude­ville prac­ti­tion­ers like Arte­mus Ward and Mark Twain to present-day come­di­ans of HBO and Netflix.
URL:https://mbjcc.org/event/an-evening-of-comedy-with-wayne-federman-author-of-the-history-of-standup/
LOCATION:Miami Beach JCC\, 4221 Pine Tree Drive\, Miami Beach\, FL\, 33140\, United States
CATEGORIES:arts + culture + ideas
ATTACH;FMTTYPE=image/jpeg:https://mbjcc.org/wp-content/uploads/2022/01/image.jpeg
END:VEVENT
BEGIN:VEVENT
DTSTART;VALUE=DATE:20220128
DTEND;VALUE=DATE:20220301
DTSTAMP:20260424T165830
CREATED:20220128T192601Z
LAST-MODIFIED:20220128T192601Z
UID:10000285-1643328000-1646092799@mbjcc.org
SUMMARY:Camp Klurman Early Bird
DESCRIPTION:The 2022 camp season is around the corner and we want to be your camper’s summer home. Register today to receive the Early Bird Discount\, these are the lowest rates of the year! \nCamp Klurman is the best camping experience on the beach. It is powered by a dynamic staff and engaging programming for all ages. Give your child a summer to remember\, filled with fun activities and friendships that last a lifetime.
URL:https://mbjcc.org/event/camp-klurman-early-bird/
LOCATION:FL\, United States
CATEGORIES:Camp,Youth Event
ATTACH;FMTTYPE=image/png:https://mbjcc.org/wp-content/uploads/2021/10/Screen-Shot-2022-01-28-at-9.18.28-AM.png
END:VEVENT
END:VCALENDAR