BEGIN:VCALENDAR
VERSION:2.0
PRODID:-//Miami Beach JCC - ECPv6.15.5//NONSGML v1.0//EN
CALSCALE:GREGORIAN
METHOD:PUBLISH
X-ORIGINAL-URL:https://mbjcc.org
X-WR-CALDESC:Events for Miami Beach JCC
REFRESH-INTERVAL;VALUE=DURATION:PT1H
X-Robots-Tag:noindex
X-PUBLISHED-TTL:PT1H
BEGIN:VTIMEZONE
TZID:UTC
BEGIN:STANDARD
TZOFFSETFROM:+0000
TZOFFSETTO:+0000
TZNAME:UTC
DTSTART:20210101T000000
END:STANDARD
END:VTIMEZONE
BEGIN:VEVENT
DTSTART;TZID=UTC:20211018T123000
DTEND;TZID=UTC:20211018T143000
DTSTAMP:20260425T153350
CREATED:20211006T172707Z
LAST-MODIFIED:20211014T194727Z
UID:10000258-1634560200-1634567400@mbjcc.org
SUMMARY:MBJCC Book Club: Red Sea Spies (Virtual)
DESCRIPTION:Red Sea Spies: The True Story of Mossad’s Fake Diving Resort by Raffi Berg\nModerated book discussion\, followed by author q&a.\nIn the ear­ly 1980s\, on a remote part of the Sudanese coast\, a new lux­u­ry resort opened for busi­ness. Cater­ing to divers\, it attract­ed guests from around the world. Lit­tle did the guests know that the staff mem­bers were under­cov­er spies\, work­ing for the Mossad — the Israeli secret ser­vice. Writ­ten by BBC News web­site Mid­dle East edi­tor Raf­fi Berg\, this page-turn­er tells the true sto­ry that inspired the recent Net­flix dra­ma The Red Sea Div­ing Resort. \nWhat began with one cryp­tic mes­sage plead­ing for help\, turned into the secret evac­u­a­tion of thou­sands of Ethiopi­an Jews and the spir­it­ing of them to Israel.\nRaffi Berg is the Middle East editor of the BBC News website. A journalist for nearly 30 years\, he has a particular interest in events in Israel\, from where he has reported extensively in times of war and peace. He graduated in modern and medieval history from the London School of Economics and was a student of Jewish and Israel studies at the Hebrew University of Jerusalem. Raffi’s book Red Sea Spies: The True Story of Mossad’s Fake Diving Resort is his literary debut\, written in collaboration with the Mossad commander behind the epic operation to spirit Ethiopian Jews to Israel. Originally from north-west England\, Raffi is based in London\, where he lives with his family.
URL:https://mbjcc.org/event/mbjcc-book-club-red-sea-spies-virtual/
LOCATION:FL\, United States
CATEGORIES:arts + culture + ideas,Book Club,Book Events
END:VEVENT
BEGIN:VEVENT
DTSTART;TZID=UTC:20211020T193000
DTEND;TZID=UTC:20211020T213000
DTSTAMP:20260425T153350
CREATED:20211006T175635Z
LAST-MODIFIED:20211014T194600Z
UID:10000259-1634758200-1634765400@mbjcc.org
SUMMARY:Film: Miami Rhapsody
DESCRIPTION:The Michael Solomon 5-Star Film Series Presents: Miami Rhapsody\nOutdoor Screening. Reservations are required.\nMiami Rhapsody is a 1995 American romantic comedy film starring Sarah Jessica Parker\, Gil Bellows\, Antonio Banderas\, Mia Farrow\, Paul Mazursky\, Kevin Pollak\, Barbara Garrick\, and Carla Gugino. It was written\, co-produced and directed by Miami native David Frankel in his feature directorial debut\, with music composed by Mark Isham. JCC-University.
URL:https://mbjcc.org/event/film-miami-rhapsody-2/
LOCATION:Miami Beach JCC\, 4221 Pine Tree Drive\, Miami Beach\, FL\, 33140\, United States
CATEGORIES:arts + culture + ideas,Films
ATTACH;FMTTYPE=image/png:https://mbjcc.org/wp-content/uploads/2021/10/My-Post-3.png
END:VEVENT
BEGIN:VEVENT
DTSTART;TZID=UTC:20211021T130000
DTEND;TZID=UTC:20211021T150000
DTSTAMP:20260425T153350
CREATED:20211006T180112Z
LAST-MODIFIED:20211014T192837Z
UID:10000260-1634821200-1634828400@mbjcc.org
SUMMARY:Literary: Naomi Ragen\, An Observant Wife (Virtual)
DESCRIPTION:FL JCCs Present: A World of Books: Authors from Israel & Around the World\nNaomi Ragen\, An Observant Wife\n$10 | Free to Members \nNao­mi Ragen is an award-win­ning nov­el­ist\, jour­nal­ist\, and play­wright. Her first book\, Jeph­te’s Daugh­ter\, was list­ed among the one-hun­dred most impor­tant Jew­ish books of all time. Her best­selling nov­els include Sotah\, The Covenant\, The Sis­ters Weiss\, and Dev­il in Jerusalem. An out­spo­ken advo­cate for wom­en’s rights\, and an active com­bat­ant against anti-Israel and anti-Semit­ic pro­pa­gan­da\, she has lived in Jerusalem since 1971. An Obser­vant Wife is her thir­teenth novel.
URL:https://mbjcc.org/event/literary-naomi-ragen-an-observant-wife-virtual/
LOCATION:FL\, United States
CATEGORIES:arts + culture + ideas,Book Events
END:VEVENT
BEGIN:VEVENT
DTSTART;TZID=UTC:20211024T203000
DTEND;TZID=UTC:20211024T220000
DTSTAMP:20260425T153350
CREATED:20211006T180736Z
LAST-MODIFIED:20211006T180824Z
UID:10000261-1635107400-1635112800@mbjcc.org
SUMMARY:Jfest: Sparking the Jewish Story: The Objects That Define Us  (Virtual)
DESCRIPTION:COMMUNITY EVENT: JFEST\nSparking the Jewish Story: The Objects That Define Us\nJewish Book Council\, Reboot\, and JFest present Laura Arnold Leibman\, author of the National Jewish Book Award-winning “The Art of the Jewish Family\,” in conversation with Juliet Simmons\, creator of Reboot’s “What Would You Bring” initiative. They’ll discuss Jewish storytelling\, resilience\, and the power of collective memory with moderator Kendell Pinkney\, a Jewish educator\, theatre-maker\, rabbinical student\, and creator of a Jewish Theological Seminary (JTS) arts and culture fellowship for professional JOCISM (Jews of Color\, Indigenous Jews\, Sephardi\, and Mizrahi) artists.
URL:https://mbjcc.org/event/jfest-sparking-the-jewish-story-the-objects-that-define-us-virtual/
LOCATION:FL\, United States
CATEGORIES:Community Event
ATTACH;FMTTYPE=image/png:https://mbjcc.org/wp-content/uploads/2021/10/image.png
END:VEVENT
END:VCALENDAR