BEGIN:VCALENDAR
VERSION:2.0
PRODID:-//Miami Beach JCC - ECPv6.15.5//NONSGML v1.0//EN
CALSCALE:GREGORIAN
METHOD:PUBLISH
X-WR-CALNAME:Miami Beach JCC
X-ORIGINAL-URL:https://mbjcc.org
X-WR-CALDESC:Events for Miami Beach JCC
REFRESH-INTERVAL;VALUE=DURATION:PT1H
X-Robots-Tag:noindex
X-PUBLISHED-TTL:PT1H
BEGIN:VTIMEZONE
TZID:UTC
BEGIN:STANDARD
TZOFFSETFROM:+0000
TZOFFSETTO:+0000
TZNAME:UTC
DTSTART:20240101T000000
END:STANDARD
END:VTIMEZONE
BEGIN:VEVENT
DTSTART;TZID=UTC:20240205T193000
DTEND;TZID=UTC:20240205T213000
DTSTAMP:20260419T182810
CREATED:20240201T035932Z
LAST-MODIFIED:20240201T035932Z
UID:10000489-1707161400-1707168600@mbjcc.org
SUMMARY:Israel and the Future of World Jewry
DESCRIPTION:Join us for an insightful evening – A View from the UK: David Moore in Conversation with Jonathan Goldstein.  Dive into a profound discussion about the “Aftermath of October 7 and Rising Anti-Semitism for both Israel and World Jewry”.
URL:https://mbjcc.org/event/world-jewry/
LOCATION:FL
CATEGORIES:Adult Learning,Community Event,Special Event
ATTACH;FMTTYPE=image/png:https://mbjcc.org/wp-content/uploads/2024/01/2.5-2-Event-Headers-Template.png
END:VEVENT
BEGIN:VEVENT
DTSTART;TZID=UTC:20240207T123000
DTEND;TZID=UTC:20240207T140000
DTSTAMP:20260419T182810
CREATED:20240201T040521Z
LAST-MODIFIED:20240201T040521Z
UID:10000490-1707309000-1707314400@mbjcc.org
SUMMARY:Lunch & Learn: Sephardi Voices: The Untold Expulsion of Jews from Arab Lands with Dr. Henry Green
DESCRIPTION:Sephardi Voices: The Untold Expulsion of Jews from Arab Lands with Dr. Henry Green \nDr. Henry Green \nChair and Founder of Sephardi Voices \nDr. Henry Green\, Professor of Religious Studies\, is the former Director of Judaic and Sephardic Studies at the University of Miami\, Florida\, USA. He is the Founding Director of MOSAIC: Jewish Life in Florida Project and of Sephardi Voices\, an audio-visual digital archive of Jews displaced from Islamic lands. He has published extensively on Jewish Miami and Florida. His most recent book\, with Paul George\, Jewish Miami Beach\, celebrates the history of Miami Beach through photos (Arcadia 2023.)
URL:https://mbjcc.org/event/sephardic-voices/
LOCATION:FL
CATEGORIES:Adult Learning,arts + culture + ideas,JCC-U,Lunch & Learn
ATTACH;FMTTYPE=image/png:https://mbjcc.org/wp-content/uploads/2024/01/2.7-2-Event-Headers-Template.png
END:VEVENT
BEGIN:VEVENT
DTSTART;TZID=UTC:20240207T193000
DTEND;TZID=UTC:20240207T210000
DTSTAMP:20260419T182810
CREATED:20240119T224552Z
LAST-MODIFIED:20240119T224552Z
UID:10000483-1707334200-1707339600@mbjcc.org
SUMMARY:Play Reading - Go Down Moses
DESCRIPTION:Go Down Moses\n  \nPresented by YILove Jewish\, please join us for this series of Jewish-themed play readings which the Miami Beach JCC offers during the year. Go Down Moses by Dana Leslie Goldstein play reading will be performed by local stage actor Avi Hoffman and a cast on Tuesday\, February 7\, 7:30 pm. \nSYNOPSIS: It’s 1985. Ethics professor Philip Hoffman and newly appointed Dean of Students Albert Becker already have a long history. They marched side by side for civil rights\, registered voters together during freedom summer\, and have maintained a friendship that crosses the boundaries of race\, religion and country of birth. Now they work at a small\, liberal university\, where part of the job is training a new crop of activists. When a star student from the South Bronx – Angela Carter – crosses the administration and invites a controversial speaker to campus\, free speech becomes a battle cry\, and still festering inequities become impossible to Ignore. GO DOWN\, MOSES is a 2021 Jewish Plays Project Finalist in their Regional and National Contests\, as well as a semi-finalist for both the Ashland New Plays Festival and the Bay Area Playwrights Festival. \n 
URL:https://mbjcc.org/event/play-reading-the-soap-myth-2/
LOCATION:FL
CATEGORIES:Adult Learning,arts + culture + ideas,Play Reading
ATTACH;FMTTYPE=image/png:https://mbjcc.org/wp-content/uploads/2024/01/2.7-Event-Headers-Template.png
END:VEVENT
BEGIN:VEVENT
DTSTART;TZID=UTC:20240212T193000
DTEND;TZID=UTC:20240212T213000
DTSTAMP:20260419T182810
CREATED:20231026T220600Z
LAST-MODIFIED:20231026T220648Z
UID:10000450-1707766200-1707773400@mbjcc.org
SUMMARY:Israeli Film Series: The Little Things
DESCRIPTION:Please join us for this month’s Israeli Film Series screening of the movie – The LIttle Things –  on Monday\, February 12 at 7:30 pm. \nYudale\, a 19-year-old from a religious Jewish settlement\, meets Michal\, a 30-year-old documentary director from Tel Aviv who is taken by his unique charm and becomes his film teacher. With the camera he receives from Michal\, Yudale documents his dying father -the famous peace activist and anarchic religious leader\, Rabbi Menachem Fruman\, and uses his filmmaking journey with Michal to navigate the multiple life paths that open before him as he comes of age.
URL:https://mbjcc.org/event/the-little-things/
LOCATION:Miami Beach JCC\, 4221 Pine Tree Drive\, Miami Beach\, FL\, 33140\, United States
CATEGORIES:arts + culture + ideas,Films,Israeli Film Series
ATTACH;FMTTYPE=image/png:https://mbjcc.org/wp-content/uploads/2023/10/2023-Fim2-Website-Event-Headers-Template.png
END:VEVENT
BEGIN:VEVENT
DTSTART;TZID=UTC:20240214T123000
DTEND;TZID=UTC:20240214T140000
DTSTAMP:20260419T182810
CREATED:20240119T230933Z
LAST-MODIFIED:20240119T230933Z
UID:10000485-1707913800-1707919200@mbjcc.org
SUMMARY:Giola Diliberto - Literary Luncheon
DESCRIPTION:Author Gioria Diliberto will present about her latest novel\, Coco at the Ritz\, at the the JCC’s February Literary Luncheon on Wednesday\, February 14 at 12:30 PM. \nThough her name is synonymous with elegance and chic\, the iconic Coco Chanel had a complicated dark side\, and in late August 1944\, as World War II drew to a close\, she was arrested and interrogated on charges of treason to France. What transpired during her interrogation\, who was present\, and why she was set free when so many other women who’d been involved with German men (willingly or otherwise) had their heads shaved or were imprisoned remains a mystery. \nIn this brilliantly insightful and compulsively enjoyable novel from the author of I Am Madame X\, Gioia Diliberto explores the motivations of this complex woman and portrays the gripping battle of wits that could have been her interrogation. Was Chanel truly a collaborator? \nGioia Dilib­er­to is the author of sev­en books and a play. Her writ­ing\, which focus­es on wom­en’s lives\, has been praised for com­bin­ing rich sto­ry­telling\, deep research\, and lit­er­ary grace. Her books have been trans­lat­ed into sev­er­al lan­guages\, and she has writ­ten for many pub­li­ca­tions. She also teach­es in the writ­ing pro­gram at North­west­ern Uni­ver­si­ty’s School of Pro­fes­sion­al Studies.
URL:https://mbjcc.org/event/giola-diliberto/
LOCATION:FL
CATEGORIES:Adult Learning,arts + culture + ideas,Book Events,JCC-U,Lunch & Learn
ATTACH;FMTTYPE=image/png:https://mbjcc.org/wp-content/uploads/2024/01/2.14-Event-Headers-Template.png
END:VEVENT
BEGIN:VEVENT
DTSTART;TZID=UTC:20240215T193000
DTEND;TZID=UTC:20240215T213000
DTSTAMP:20260419T182810
CREATED:20240119T231929Z
LAST-MODIFIED:20240119T231929Z
UID:10000486-1708025400-1708032600@mbjcc.org
SUMMARY:Live Braiding with the Challah Prince!
DESCRIPTION:Come braid challah with world-renowned artistic challah baker and Instagram star\, Idan Chabasov\, the Challah Prince. Learn unique dough-braiding techniques\, hear Idan’s personal story\, enjoy a light nosh\, and take your creation home to bake in time for Shabbat! \nLimited tickets available. \nAbout Idan Chabasov: Born and raised in Tel Aviv and now back in Israel after spending 7 years in Berlin\, Germany\, Idan is an artist with a background in professional dancing\, video production\, animation\, and PR in the lifestyle-industry. Idan now sees his mission as bringing art into the baking world and demonstrating the beauty of every single piece of challah.
URL:https://mbjcc.org/event/live-braiding-with-the-challah-prince/
LOCATION:FL
CATEGORIES:Adult Learning,Community Event,Special Event
ATTACH;FMTTYPE=image/png:https://mbjcc.org/wp-content/uploads/2024/01/2.15-Event-Headers-Template.png
END:VEVENT
BEGIN:VEVENT
DTSTART;TZID=UTC:20240219T083000
DTEND;TZID=UTC:20240219T160000
DTSTAMP:20260419T182810
CREATED:20230907T215214Z
LAST-MODIFIED:20230907T215214Z
UID:10000433-1708331400-1708358400@mbjcc.org
SUMMARY:School Day Out
DESCRIPTION:SCHOOL DAYS OUT\nWhen School is Out\, the J is in! School Days Out are offered with Miami-Dade County public school closings. Students will enjoy activities such as art\, cooking\, science\, sports\, games\, swimming\, and more! Send your child with a swimsuit\, towel\, flip-flops and sunscreen. \nKosher lunch and snacks will be provided daily. \nPre- Registration: $75 | Members $60\nDay of: $80 | Members: $65
URL:https://mbjcc.org/event/school-day-out-2-19/
LOCATION:Miami Beach JCC\, 4221 Pine Tree Drive\, Miami Beach\, FL\, 33140\, United States
CATEGORIES:Camp,School Day Out,Schools Out - No Afterschool or Youth,Youth Event
ATTACH;FMTTYPE=image/png:https://mbjcc.org/wp-content/uploads/2021/09/10.27-Website-Event-Headers-Template.png
END:VEVENT
BEGIN:VEVENT
DTSTART;TZID=UTC:20240219T193000
DTEND;TZID=UTC:20240219T213000
DTSTAMP:20260419T182810
CREATED:20240119T232734Z
LAST-MODIFIED:20240119T232734Z
UID:10000487-1708371000-1708378200@mbjcc.org
SUMMARY:One Woman Show - "That's (Not) How You Walk On Stage"
DESCRIPTION:The Miami Beach JCC\, in partnership with the Great Miami Jewish Federation\, is excited to present a program for Jewish Disability Awareness\, Acceptance\, and Inclusion Month (JDAIM). \n” When I was an infant the doctors told my parents “Unfortunately\, there’s nothing more we can do. She’ll walk until she can’t walk anymore. And then – a wheelchair”. My one-woman show “That’s (Not) How You Walk On Stage” tells my story as a triplet born with Cerebral Palsy and reveals my journey of coping\, challenges\, failures\, and victories living with this disability. ” \nGrowing up in Israel while battling her physical challenges and societal judgments\, Maayan’s journey is a powerful exploration of acceptance and pursuing one’s dreams. She’ll discuss her desire to be accepted for who she is\, walk her path\, stand on her own feet\, and pursue her passion for acting without being told how to do it.
URL:https://mbjcc.org/event/one-woman-show/
LOCATION:FL
CATEGORIES:Adult Learning,arts + culture + ideas,Community Event,Special Event
ATTACH;FMTTYPE=image/png:https://mbjcc.org/wp-content/uploads/2024/01/2.19-Event-Headers-Template.png
END:VEVENT
BEGIN:VEVENT
DTSTART;TZID=UTC:20240220T180000
DTEND;TZID=UTC:20240220T193000
DTSTAMP:20260419T182810
CREATED:20240216T025327Z
LAST-MODIFIED:20240216T025719Z
UID:10000495-1708452000-1708457400@mbjcc.org
SUMMARY:Teen Event: In Their Own Words - October 7th Survivors
DESCRIPTION:TESTIMONIALS FROM ISRAEL\nConversation with October 7th Survivors \nHear from Dean Tesler (21) and Yahli Jacobovitz (23)\, recount in their own words their heroic stories of survival and what they have to say to the world and the Jewish Communities. \nRSVP & FOR MORE INFORMATION:\nJenny Mermelszteyn\nDirector of Camping & Children/Family\njenny@mbjcc.org or x210
URL:https://mbjcc.org/event/intheirwords/
LOCATION:FL
CATEGORIES:arts + culture + ideas,Book Events,Special Event
ATTACH;FMTTYPE=image/png:https://mbjcc.org/wp-content/uploads/2024/02/2.202024-Website-Header-Template.png
END:VEVENT
BEGIN:VEVENT
DTSTART;TZID=UTC:20240226T193000
DTEND;TZID=UTC:20240226T210000
DTSTAMP:20260419T182810
CREATED:20240206T224236Z
LAST-MODIFIED:20240209T230017Z
UID:10000492-1708975800-1708981200@mbjcc.org
SUMMARY:Wine Tasting with Israeli Winemaker Nir Lavi
DESCRIPTION:Get the once-in-a-lifetime chance to meet Nir Lavi\, the acclaimed Israeli winemaker hailing from Har Bracha Winery nestled in the heart of Shomron\, Israel. Delight your palate with exquisite wines while gaining insights into the winemaking process and the unique offerings of the winery. Learn more about the evolving landscape of wineries across Israel\, and how this shapes the future of wine production in the region since October 7th. \nFor those who cannot attend – you can order the wines to your home to sample by clicking below. \nHar Bracha \n 
URL:https://mbjcc.org/event/wine-tasting/
LOCATION:Miami Beach JCC\, 4221 Pine Tree Drive\, Miami Beach\, FL\, 33140\, United States
CATEGORIES:arts + culture + ideas,Community Event,Special Event
ATTACH;FMTTYPE=image/png:https://mbjcc.org/wp-content/uploads/2024/02/2.26-Website-Header-Template.png
END:VEVENT
BEGIN:VEVENT
DTSTART;VALUE=DATE:20240228
DTEND;VALUE=DATE:20240229
DTSTAMP:20260419T182810
CREATED:20240222T234305Z
LAST-MODIFIED:20240222T234305Z
UID:10000507-1709078400-1709164799@mbjcc.org
SUMMARY:Heart Health Day at the J
DESCRIPTION:Rock the RED to Show Your Support! \nJoin Our Heart-Centered Events:  \n10 AM – 5 PM\nLobby Giveaways:  Lounge in our Boich Family Lobby while enjoying warm beverages and tasty treats!\nJacqui’s Pearls Pop Up Shop:  Shop for Jewelry from the Heart \nGet Pumped Up with OUR Fitness Classes!\n (Register through MYJ APP) \n8 :15 AM: S.W.E.A.T with Michelle S.\n9 AM: Core Power Yoga with Michael T.\n9 AM: TRX with Courtney L.\n10:15 AM: TRX with Michelle S.\n10:15 AM: Cycle with Amanda H.\n11 AM: Yogalates with Ximetta M.\n12 PM: Pilates Fusion with Jessica G. \n 
URL:https://mbjcc.org/event/hearthealthday24/
LOCATION:Miami Beach JCC\, 4221 Pine Tree Drive\, Miami Beach\, FL\, 33140\, United States
CATEGORIES:Adult Learning,arts + culture + ideas,Fitness,Special Event
ATTACH;FMTTYPE=image/png:https://mbjcc.org/wp-content/uploads/2024/02/2024-HH-Website-Header-Template.png
END:VEVENT
BEGIN:VEVENT
DTSTART;VALUE=DATE:20240228
DTEND;VALUE=DATE:20240229
DTSTAMP:20260419T182810
CREATED:20240314T232738Z
LAST-MODIFIED:20240314T232738Z
UID:10000516-1709078400-1709164799@mbjcc.org
SUMMARY:Pre Passover Pop Up Shop
DESCRIPTION:Our very own artist\, Caryn Frishman\, will be back in our Boich Family Lobby\, selling her beautiful\, one-of-a-kind\, colorful creations! Shop for gifts for the holiday. There is something for everyone! \nRefreshments will also be provided. \n 
URL:https://mbjcc.org/event/passovershop/
LOCATION:Miami Beach JCC\, 4221 Pine Tree Drive\, Miami Beach\, FL\, 33140\, United States
CATEGORIES:Community Event,Family Event,Fitness,Member Event,Special Event
ATTACH;FMTTYPE=image/png:https://mbjcc.org/wp-content/uploads/2024/03/2024-Passocer-Pop-Uo.png
END:VEVENT
BEGIN:VEVENT
DTSTART;TZID=UTC:20240228T123000
DTEND;TZID=UTC:20240228T140000
DTSTAMP:20260419T182810
CREATED:20240220T222401Z
LAST-MODIFIED:20240220T222401Z
UID:10000498-1709123400-1709128800@mbjcc.org
SUMMARY:Lunch & Learn:"The Unexpected Gift of Trauma"
DESCRIPTION:RSVP\nDr. Edith Shiro is a clinical psychologist in private practice in Miami\, Florida and the author of The Unexpected Gift of Trauma: The Path to Posttrauamtic Growth\, winner of the 2023 International Latino Book Awards. Dr. Shiro is also co-founder of the Trauma and Resilience Center\, board member of the World Happiness Foundation\, and an active member of HIAS and Cadena International\, providing humanitarian aid and disaster prevention worldwide. She has worked at the Clinic for Survivors of Torture at Bellevue Hospital\, the Cambodian refugee clinic at Montefiore Medical Center\, and the Human Rights Clinical Support Network at REFUGE\, among others. She was awarded the Hispanic Women of Distinction in 2018 and the Health Innovation Award 2023 for outstanding service in healthcare. Her book\, translated in many languages\, will be published in Spanish on April 16th and is available for pre-order now! \nElise Scheck Bonwitt is an attorney\, Certified Circuit Court mediator\, business owner\, consultant and coach\, and author of MORE\, Get More out of Life with Less Complication. She is the co-founder of SImpact (www.simpact.it)\, an organization committed to increasing performance of social sector organizations. She is also the Board Chair of the MAR JCC\, a member of the National Women’s Philanthropy Board\, a board member of Overtown Youth Center\, a board member of The Women’s Fund\, and a Mentor with Women of Tomorrow\, where she works with 30 girls at Miami Lakes Educational Center. She is also Vice Chair of the Board for Greater Miami Jewish Federation where she serves as the Chair of the Youth Mental Health Task Force. She lives in Miami with her husband\, Gil Bonwitt. They are the proud parents of five children.
URL:https://mbjcc.org/event/giftoftrauma/
LOCATION:FL
CATEGORIES:Adult Learning,arts + culture + ideas,JCC-U,Lunch & Learn
ATTACH;FMTTYPE=image/png:https://mbjcc.org/wp-content/uploads/2024/02/2.28-event.png
END:VEVENT
BEGIN:VEVENT
DTSTART;TZID=UTC:20240228T193000
DTEND;TZID=UTC:20240228T210000
DTSTAMP:20260419T182810
CREATED:20240220T223449Z
LAST-MODIFIED:20240220T223449Z
UID:10000499-1709148600-1709154000@mbjcc.org
SUMMARY:Negev Stories of Rebuilding and Resilience with Ilan Troen\, Professor Emeritus\, Ben-Gurion University of the Negev
DESCRIPTION:RSVP\nPlease join Miami Beach JCC in Partnership with Americans for Ben Gurion University for an evening with Professor Ilan Troen. \nProf. Ilan Troen will share his firsthand account of Israel’s October 7 terrorist attacks when\, sadly\, his daughter and son-in-law were murdered. A historian of Israel and Jewish studies and resident of Beer-Sheva\, Prof. Troen will give background on the kibbutz communities that were destroyed and talk about the importance of rebuilding Israel from the Negev. \nILAN TROEN \nIlan Troen is professor emeritus of the Sam and Anna Lopin Chair of Modern History (Ben-Gurion University of the Negev) and of the Stoll Family Chair in Israel Studies (Brandeis University). \nHe has served as a founding dean of Humanities and Social Sciences at Ben-Gurion University of the Negev\, director of the Ben-Gurion Research Institute for the Study of Israel and Zionism in Sde Boqer\, director of the Kreitman Foundation Fellowships\, and on many key BGU committees between 1975-2007.  He presently represents BGU on the inter-university committee that combats BDS\, and is an active writer and lecturer in this area internationally on behalf of Israel and its academy. \nTroen has also served in various capacities in academic associations in Israel and abroad including president of the international Association of Israel Studies.  In 2023 he was awarded its Lifetime Achievement Award. \nInvited by Brandeis to share BGU’s experience in developing the field of Israel Studies\, he established the Schusterman Center for Israel Studies in 2007\, the most extensive academic institute outside Israel.  Its Summer Institute alone has prepared 350 academics across the world to introduce or enhance Israel Studies at their institutions. \nHe has authored or edited numerous books in American\, Jewish and Israeli history. He is the founding editor of Israel Studies (Indiana University Press)\, the leading journal in this new field to which more than 3\,000 universities worldwide subscribe and 700 individuals contributed at least one essay.  He has authored or edited numerous books. Forthcoming in early 2024 is Israel/Palestine in World Religions; Whose Promised Land? \nHe has lectured widely at universities in China\, Japan\, Turkey\, Australia\, South Africa\, across Europe (Bucharest to Oxford)\, Canada (McGill to Calgary) and the U.S. (Dartmouth to Berkeley).  He has also been scholar-in-residence in American Jewish communities. \nIlan Troen was born in Boston\, educated at the Latin School\, Hebrew College\, Brandeis\, and the Hebrew University in Jerusalem before taking his PhD at the University of Chicago.  He was at Missouri and Princeton before making aliyah in 1975.  He is married to Dr. Carol Troen who taught in BGU’s Department of Foreign Literatures and Linguistics.  They have six children\, a growing number of grandchildren\, and returned from Brandeis in 2017 to their permanent home in Omer/Beer-Sheva.
URL:https://mbjcc.org/event/negevstories/
LOCATION:Miami Beach JCC\, 4221 Pine Tree Drive\, Miami Beach\, FL\, 33140\, United States
CATEGORIES:arts + culture + ideas,Community Event,Special Event
ATTACH;FMTTYPE=image/png:https://mbjcc.org/wp-content/uploads/2024/02/2.28-2-event.png
END:VEVENT
BEGIN:VEVENT
DTSTART;VALUE=DATE:20240229
DTEND;VALUE=DATE:20240301
DTSTAMP:20260419T182810
CREATED:20240216T224306Z
LAST-MODIFIED:20240216T224306Z
UID:10000496-1709164800-1709251199@mbjcc.org
SUMMARY:Fitness with Friends
DESCRIPTION:FITNESS WITH FRIENDS\nWhy work out alone when you can bring friends? \nJOIN US EVERY LAST THURSDAY OF THE MONTH \nThe MBJCC is extending an open invitation to all our group fitness classes. Experience the joy of working out in a community because we all know – Workouts are Better with Friends! \n✅ Access to All Group Fitness Classes! Classes are available throughout the day to fit your schedule.\n✅ Special Referral Program!\nBring a friend along! If they sign up as an Annual Member\, both of you receive:\n• A $150 Credit toward your membership\n• An exclusive Free MBJCC Swag Gift\n✅ Enjoy Refreshments!\nAfter your workout\, relax and socialize in the lobby with complimentary refreshments for you and your workout buddies. \nFriends must accompany an MBJCC Member in good standing. Friends must be local and provide a valid Florida driver’s license. Credits are only given for Annual Memberships. \nFor more information\, contact Membership Director Nicole Linares at nicolel@mbjcc.org or x203
URL:https://mbjcc.org/event/fitnesswithfriends-2-29/
LOCATION:FL
CATEGORIES:Community Event,Fitness,Member Event,Special Event
ATTACH;FMTTYPE=image/png:https://mbjcc.org/wp-content/uploads/2023/12/2023-Fithness-Thursday-Website-Event-Headers-Template.png
END:VEVENT
END:VCALENDAR