BEGIN:VCALENDAR
VERSION:2.0
PRODID:-//Miami Beach JCC - ECPv6.15.5//NONSGML v1.0//EN
CALSCALE:GREGORIAN
METHOD:PUBLISH
X-WR-CALNAME:Miami Beach JCC
X-ORIGINAL-URL:https://mbjcc.org
X-WR-CALDESC:Events for Miami Beach JCC
REFRESH-INTERVAL;VALUE=DURATION:PT1H
X-Robots-Tag:noindex
X-PUBLISHED-TTL:PT1H
BEGIN:VTIMEZONE
TZID:UTC
BEGIN:STANDARD
TZOFFSETFROM:+0000
TZOFFSETTO:+0000
TZNAME:UTC
DTSTART:20240101T000000
END:STANDARD
END:VTIMEZONE
BEGIN:VTIMEZONE
TZID:America/New_York
BEGIN:DAYLIGHT
TZOFFSETFROM:-0500
TZOFFSETTO:-0400
TZNAME:EDT
DTSTART:20240310T070000
END:DAYLIGHT
BEGIN:STANDARD
TZOFFSETFROM:-0400
TZOFFSETTO:-0500
TZNAME:EST
DTSTART:20241103T060000
END:STANDARD
END:VTIMEZONE
BEGIN:VEVENT
DTSTART;TZID=UTC:20241029T193000
DTEND;TZID=UTC:20241029T213000
DTSTAMP:20260419T154820
CREATED:20240823T203130Z
LAST-MODIFIED:20240823T203130Z
UID:10000558-1730230200-1730237400@mbjcc.org
SUMMARY:10/7: The Human Story with Lee Yaron
DESCRIPTION:Please join us for a special evening\, Tuesday\, October 29\, at 7:30 pm for a very special evening in conversation with Israeli Journalist Lee Yaron regarding her book\, 10/7: The Human Story. The defin­i­tive account of the 10/7 mas­sacre through the sto­ries of its vic­tims and the com­mu­ni­ties they called home. \nA mas­ter­ful work of inves­tiga­tive jour­nal­ism by acclaimed Haaretz reporter Lee Yaron\, 10/7 chron­i­cles the mas­sacre that ignit­ed a war through the sto­ries of more than 100 civil­ians. These sto­ries are the prod­ucts of exten­sive inter­views with sur­vivors\, the bereaved\, and first respon­ders in Israel and beyond. The vic­tims run the gamut from left-wing kib­butzniks and Burn­ing Man-esque partiers to rad­i­cal right-wingers\, from Bedouins and Israeli Arabs to Thai and Nepalese guest work­ers\, peace activists\, elder­ly Holo­caust sur­vivors\, refugees from Ukraine and Rus­sia\, preg­nant women\, and babies. \nLee Yaron has been a jour­nal­ist with Haaretz\, Israel’s old­est and most award-win­ning news­pa­per\, for near­ly a decade. Her inves­tiga­tive report­ing has result­ed in the found­ing of state-lev­el com­mis­sions and the chang­ing of sub­stan­tial bod­ies of Israeli pol­i­cy and law. She is an elect­ed mem­ber-rep­re­sen­ta­tive of the Exec­u­tive Com­mit­tee of the Union of Israeli Jour­nal­ists. She has also writ­ten and direct­ed acclaimed the­ater pro­duc­tions notable for their use of found mate­ri­als\, includ­ing offi­cial gov­ern­men­tal texts\, to bring atten­tion to mar­gin­al­ized com­mu­ni­ties both in Israel and through­out the Mid­dle East. Born in Tel Aviv\, Yaron splits her time between her native city and New York.
URL:https://mbjcc.org/event/lyaron/
LOCATION:FL
CATEGORIES:Adult Learning,Community Event,Special Event
ATTACH;FMTTYPE=image/jpeg:https://mbjcc.org/wp-content/uploads/2024/08/download.jpg
END:VEVENT
BEGIN:VEVENT
DTSTART;TZID=UTC:20241030T110000
DTEND;TZID=UTC:20241030T140000
DTSTAMP:20260419T154820
CREATED:20240823T203808Z
LAST-MODIFIED:20240823T203808Z
UID:10000559-1730286000-1730296800@mbjcc.org
SUMMARY:Sharsheret - Breast Cancer Awareness Month Luncheon
DESCRIPTION:You’re invited to a special Lunch & Learn event hosted by Miami Beach JCC in collaboration with Sharsheret. Join us as we honor the stories of breast cancer survivors and explore how various forms of art—music\, visual\, literary\, and dance—play a crucial role in healing and enhancing well-being. \nThe program will include screening guidelines and other pertinent information to support our discussion. \nAfter the Lunch & Learn session\, everyone is welcome to stay and enjoy open play of Canasta and Mahjong. \nSpecial film: The Cancer Artists: Exhibiting Breast Cancer Art \nCo-sponsored with Sharsheret\, a Jewish Breast Cancer Organization\, in Honor of Breast Cancer Awareness Month.
URL:https://mbjcc.org/event/breastcancermonth24/
LOCATION:FL
CATEGORIES:arts + culture + ideas,Community Event,Lunch & Learn,Special Event
ATTACH;FMTTYPE=image/jpeg:https://mbjcc.org/wp-content/uploads/2024/08/BC.jpg
END:VEVENT
BEGIN:VEVENT
DTSTART;TZID=America/New_York:20241103T120000
DTEND;TZID=America/New_York:20241103T170000
DTSTAMP:20260419T154820
CREATED:20240214T214800Z
LAST-MODIFIED:20240925T220318Z
UID:10000494-1730635200-1730653200@mbjcc.org
SUMMARY:Poker Fundraiser
DESCRIPTION:Tournament Begins @ 12 pm\nSeat Buy-In Suggested Donation: $500\nTable Sponsorship: $5\,000\n(Includes Up to Ten Seats and Table Naming Signage) \nMajor Prize Packages provided by:\nSeminole Hard Rock Hotel and Casino\nMajor Food Group\nAnd More To Be Announced \n  \n \nChairpersons:\nAdam Bergman | Neal Berman | Mark Fisher | Jared Galbut | Benj Garrett | Marc Lehmann\nSean Posner | Aaron Rosenthal | Michael Simkins | David Smith | Mike Zuckerman \nThe casino gaming tables are provided for entertainment purposes only by Casino Party Nights Florida Inc\,\n(954) 926-4219. All donations and proceeds benefit the Miami Beach JCC.\nMust be 18 years or older to play. \n 
URL:https://mbjcc.org/event/poker/
LOCATION:FL
CATEGORIES:Fundraiser,Special Event
ATTACH;FMTTYPE=image/png:https://mbjcc.org/wp-content/uploads/2024/02/2024-Poker-Website-Header-Template.png
END:VEVENT
END:VCALENDAR