BEGIN:VCALENDAR
VERSION:2.0
PRODID:-//Miami Beach JCC - ECPv6.15.5//NONSGML v1.0//EN
CALSCALE:GREGORIAN
METHOD:PUBLISH
X-ORIGINAL-URL:https://mbjcc.org
X-WR-CALDESC:Events for Miami Beach JCC
REFRESH-INTERVAL;VALUE=DURATION:PT1H
X-Robots-Tag:noindex
X-PUBLISHED-TTL:PT1H
BEGIN:VTIMEZONE
TZID:UTC
BEGIN:STANDARD
TZOFFSETFROM:+0000
TZOFFSETTO:+0000
TZNAME:UTC
DTSTART:20240101T000000
END:STANDARD
END:VTIMEZONE
BEGIN:VEVENT
DTSTART;TZID=UTC:20240307T120000
DTEND;TZID=UTC:20240310T180000
DTSTAMP:20260421T152557
CREATED:20240222T235844Z
LAST-MODIFIED:20240222T235844Z
UID:10000509-1709812800-1710093600@mbjcc.org
SUMMARY:Future Vintage
DESCRIPTION:
URL:https://mbjcc.org/event/futurevintage/
LOCATION:Future Vintage\, 438 Lincoln Rd\, Miami Beach\, Florida\, 33139
CATEGORIES:Fundraiser,Special Event
ATTACH;FMTTYPE=image/png:https://mbjcc.org/wp-content/uploads/2024/02/2024-FV-Website-Header-Template.png
END:VEVENT
END:VCALENDAR