BEGIN:VCALENDAR
VERSION:2.0
PRODID:-//Miami Beach JCC - ECPv6.15.5//NONSGML v1.0//EN
CALSCALE:GREGORIAN
METHOD:PUBLISH
X-ORIGINAL-URL:https://mbjcc.org
X-WR-CALDESC:Events for Miami Beach JCC
REFRESH-INTERVAL;VALUE=DURATION:PT1H
X-Robots-Tag:noindex
X-PUBLISHED-TTL:PT1H
BEGIN:VTIMEZONE
TZID:America/New_York
BEGIN:DAYLIGHT
TZOFFSETFROM:-0500
TZOFFSETTO:-0400
TZNAME:EDT
DTSTART:20250309T070000
END:DAYLIGHT
BEGIN:STANDARD
TZOFFSETFROM:-0400
TZOFFSETTO:-0500
TZNAME:EST
DTSTART:20251102T060000
END:STANDARD
END:VTIMEZONE
BEGIN:VEVENT
DTSTART;TZID=America/New_York:20250119T140000
DTEND;TZID=America/New_York:20250119T170000
DTSTAMP:20260422T113702
CREATED:20250102T164847Z
LAST-MODIFIED:20250102T164847Z
UID:10000596-1737295200-1737306000@mbjcc.org
SUMMARY:Rachmaninoff's Symphonic Dances at the New World Symphony
DESCRIPTION:From film scores to folk songs\, music from and inspired by WWII… \nStep into Hollywood’s Golden Age with lush film scores by musical exiles Erich Korngold and Franz Waxman\, brought to life by conductor Anja Bihlmaier. Experience Rachmaninoff’s Symphonic Dances\, his final composition\, blending influences from his new home in America with a nostalgic saxophone solo and dramatic waltz. Cuban composer Julián Orbón weaves his homeland’s folk music into his works\, while Schoenberg’s A Survivor from Warsaw serves as a powerful tribute to the victims of the Holocaust. \nThis concert is part of Resonance of Remembrance\, a season-long series marking the 80th anniversary of the end of WWII and the Holocaust. Through music\, we honor the past\, remember the lives lost\, and reflect on the urgent need for peace today.
URL:https://mbjcc.org/event/rachmaninoffs-symphonic-dances-at-the-new-world-symphony/
LOCATION:FL
CATEGORIES:Special Event
ATTACH;FMTTYPE=image/jpeg:https://mbjcc.org/wp-content/uploads/2025/01/symph_dances_web_img.jpg
END:VEVENT
END:VCALENDAR