BEGIN:VCALENDAR
VERSION:2.0
PRODID:-//Miami Beach JCC - ECPv6.15.5//NONSGML v1.0//EN
CALSCALE:GREGORIAN
METHOD:PUBLISH
X-WR-CALNAME:Miami Beach JCC
X-ORIGINAL-URL:https://mbjcc.org
X-WR-CALDESC:Events for Miami Beach JCC
REFRESH-INTERVAL;VALUE=DURATION:PT1H
X-Robots-Tag:noindex
X-PUBLISHED-TTL:PT1H
BEGIN:VTIMEZONE
TZID:UTC
BEGIN:STANDARD
TZOFFSETFROM:+0000
TZOFFSETTO:+0000
TZNAME:UTC
DTSTART:20230101T000000
END:STANDARD
END:VTIMEZONE
BEGIN:VEVENT
DTSTART;TZID=UTC:20231204T100000
DTEND;TZID=UTC:20231213T170000
DTSTAMP:20260424T052337
CREATED:20231117T234553Z
LAST-MODIFIED:20231118T021628Z
UID:10000456-1701684000-1702486800@mbjcc.org
SUMMARY:Chanukah Pop Up Shop
DESCRIPTION:Light up the holidays with a gift from our Chanukah Pop Up Shop! Shop and support the MBJCC and Israel this Chanukah season.\n\nDaily Vendor Schedule\n\nMonday\, December 4: Jewelry – Jacqui Pearls\nTuesday\, December 5: Art and Jewelry – CF Creations\nWednesday\, December 6: Sunglasses and Jewelry – Peace Love Sunnies and 11Piper\nThursday\, December 7: Books – Books for the Holidays\nSunday\, December 10: Various Vendors – Chanukah Festival Vendors and Shop for Israel\nMonday\, December 11: Products of Israel\nTuesday\, December 12: Books – Books for the Holidays\nWednesday\, December 13: Girls Clothing – C’est Chou by Sienna
URL:https://mbjcc.org/event/chanukahshop/
LOCATION:FL
CATEGORIES:Community Event,Family Event,Special Event
ATTACH;FMTTYPE=image/png:https://mbjcc.org/wp-content/uploads/2023/11/2023-Chan-Shop-Website-Event-Headers-Template.png
END:VEVENT
BEGIN:VEVENT
DTSTART;TZID=UTC:20231213T183000
DTEND;TZID=UTC:20231213T193000
DTSTAMP:20260424T052338
CREATED:20231205T002421Z
LAST-MODIFIED:20231205T002421Z
UID:10000466-1702492200-1702495800@mbjcc.org
SUMMARY:Navigating Jewish Life on Campus
DESCRIPTION:A Panel discussion with Hillel Directors\, StandwithUS\, and CAJE. The Panel will address the current climate on college campuses\, talk about how the war impacted student life\, and address the change post-October 7th. \nM O D E R A T O R :\nYehuda Michael\nIsraeli Shaliach (Emissary) \nP A N E L I S T S :\nJess Green\, Senior Campus Southeast Regional Manager\, StandWithUs \nBriana Schwarz\, Executive Director at the University of Miami Hillel \nJon Warech\, Executive Director\, Hillel at FIU \nCarly A. Orshan\, Director of CAJE Teen Department and March of the Living
URL:https://mbjcc.org/event/jewishcampuslife/
LOCATION:FL
CATEGORIES:Community Event,Family Event,Special Event
ATTACH;FMTTYPE=image/png:https://mbjcc.org/wp-content/uploads/2023/12/2023-Campus-Website-Event-Headers-Template.png
END:VEVENT
END:VCALENDAR