BEGIN:VCALENDAR
VERSION:2.0
PRODID:-//Miami Beach JCC - ECPv6.15.5//NONSGML v1.0//EN
CALSCALE:GREGORIAN
METHOD:PUBLISH
X-ORIGINAL-URL:https://mbjcc.org
X-WR-CALDESC:Events for Miami Beach JCC
REFRESH-INTERVAL;VALUE=DURATION:PT1H
X-Robots-Tag:noindex
X-PUBLISHED-TTL:PT1H
BEGIN:VTIMEZONE
TZID:UTC
BEGIN:STANDARD
TZOFFSETFROM:+0000
TZOFFSETTO:+0000
TZNAME:UTC
DTSTART:20230101T000000
END:STANDARD
END:VTIMEZONE
BEGIN:VEVENT
DTSTART;TZID=UTC:20231225T100000
DTEND;TZID=UTC:20231225T120000
DTSTAMP:20260422T212319
CREATED:20231201T230301Z
LAST-MODIFIED:20231201T230301Z
UID:10000465-1703498400-1703505600@mbjcc.org
SUMMARY:Mitzvah & Munch
DESCRIPTION:EAT…Bagels & Nosh \nPLAY …Bingo & Win Prizes \nHELP…Decorate Pillow Cases\nHelp us decorate pillowcases for Israeli families and Israeli soldiers.  Pillowcases will be sent to Israel through our partners at  Operation Gratitude and GEM (Global Empowerment Mission). \nRSVP to Membership Director Nicole Linares at nicolel@mbjcc.org or x203
URL:https://mbjcc.org/event/mitzvah-munch-23/
CATEGORIES:Community Event,Family Event,Member Event,Special Event
ATTACH;FMTTYPE=image/png:https://mbjcc.org/wp-content/uploads/2022/12/Screen-Shot-2022-12-01-at-11.40.14-AM.png
END:VEVENT
END:VCALENDAR