BEGIN:VCALENDAR
VERSION:2.0
PRODID:-//Miami Beach JCC - ECPv6.15.5//NONSGML v1.0//EN
CALSCALE:GREGORIAN
METHOD:PUBLISH
X-WR-CALNAME:Miami Beach JCC
X-ORIGINAL-URL:https://mbjcc.org
X-WR-CALDESC:Events for Miami Beach JCC
REFRESH-INTERVAL;VALUE=DURATION:PT1H
X-Robots-Tag:noindex
X-PUBLISHED-TTL:PT1H
BEGIN:VTIMEZONE
TZID:America/New_York
BEGIN:DAYLIGHT
TZOFFSETFROM:-0500
TZOFFSETTO:-0400
TZNAME:EDT
DTSTART:20250309T070000
END:DAYLIGHT
BEGIN:STANDARD
TZOFFSETFROM:-0400
TZOFFSETTO:-0500
TZNAME:EST
DTSTART:20251102T060000
END:STANDARD
END:VTIMEZONE
BEGIN:VEVENT
DTSTART;VALUE=DATE:20251001
DTEND;VALUE=DATE:20251002
DTSTAMP:20260424T132536
CREATED:20251001T142052Z
LAST-MODIFIED:20251001T142052Z
UID:10007614-1759276800-1759363199@mbjcc.org
SUMMARY:CLOSE @ 4PM
DESCRIPTION:
URL:https://mbjcc.org/event/close-4pm/
LOCATION:Miami Beach JCC\, 4221 Pine Tree Drive\, Miami Beach\, FL\, 33140\, United States
CATEGORIES:CLOSED
END:VEVENT
BEGIN:VEVENT
DTSTART;VALUE=DATE:20251002
DTEND;VALUE=DATE:20251003
DTSTAMP:20260424T132536
CREATED:20251001T141557Z
LAST-MODIFIED:20251001T141557Z
UID:10007611-1759363200-1759449599@mbjcc.org
SUMMARY:CLOSED
DESCRIPTION:
URL:https://mbjcc.org/event/closed/
LOCATION:Miami Beach JCC\, 4221 Pine Tree Drive\, Miami Beach\, FL\, 33140\, United States
CATEGORIES:CLOSED
END:VEVENT
BEGIN:VEVENT
DTSTART;VALUE=DATE:20251006
DTEND;VALUE=DATE:20251007
DTSTAMP:20260424T132536
CREATED:20251001T142154Z
LAST-MODIFIED:20251001T142250Z
UID:10007615-1759708800-1759795199@mbjcc.org
SUMMARY:CLOSE @ 4PM
DESCRIPTION:
URL:https://mbjcc.org/event/close-4pm-2/
LOCATION:Miami Beach JCC\, 4221 Pine Tree Drive\, Miami Beach\, FL\, 33140\, United States
CATEGORIES:CLOSED
END:VEVENT
BEGIN:VEVENT
DTSTART;VALUE=DATE:20251007
DTEND;VALUE=DATE:20251008
DTSTAMP:20260424T132536
CREATED:20251001T141643Z
LAST-MODIFIED:20251001T141643Z
UID:10007612-1759795200-1759881599@mbjcc.org
SUMMARY:CLOSED
DESCRIPTION:
URL:https://mbjcc.org/event/closed-2/
LOCATION:Miami Beach JCC\, 4221 Pine Tree Drive\, Miami Beach\, FL\, 33140\, United States
CATEGORIES:CLOSED
END:VEVENT
BEGIN:VEVENT
DTSTART;VALUE=DATE:20251013
DTEND;VALUE=DATE:20251014
DTSTAMP:20260424T132536
CREATED:20251001T142323Z
LAST-MODIFIED:20251001T142419Z
UID:10007616-1760313600-1760399999@mbjcc.org
SUMMARY:CLOSE @ 4PM
DESCRIPTION:
URL:https://mbjcc.org/event/close-4pm-3/
LOCATION:Miami Beach JCC\, 4221 Pine Tree Drive\, Miami Beach\, FL\, 33140\, United States
CATEGORIES:CLOSED
END:VEVENT
BEGIN:VEVENT
DTSTART;VALUE=DATE:20251014
DTEND;VALUE=DATE:20251015
DTSTAMP:20260424T132536
CREATED:20251001T141814Z
LAST-MODIFIED:20251001T141814Z
UID:10007613-1760400000-1760486399@mbjcc.org
SUMMARY:CLOSED
DESCRIPTION:
URL:https://mbjcc.org/event/closed-3/
LOCATION:Miami Beach JCC\, 4221 Pine Tree Drive\, Miami Beach\, FL\, 33140\, United States
CATEGORIES:CLOSED
END:VEVENT
END:VCALENDAR