BEGIN:VCALENDAR
VERSION:2.0
PRODID:-//Miami Beach JCC - ECPv6.15.5//NONSGML v1.0//EN
CALSCALE:GREGORIAN
METHOD:PUBLISH
X-WR-CALNAME:Miami Beach JCC
X-ORIGINAL-URL:https://mbjcc.org
X-WR-CALDESC:Events for Miami Beach JCC
REFRESH-INTERVAL;VALUE=DURATION:PT1H
X-Robots-Tag:noindex
X-PUBLISHED-TTL:PT1H
BEGIN:VTIMEZONE
TZID:UTC
BEGIN:STANDARD
TZOFFSETFROM:+0000
TZOFFSETTO:+0000
TZNAME:UTC
DTSTART:20240101T000000
END:STANDARD
END:VTIMEZONE
BEGIN:VEVENT
DTSTART;VALUE=DATE:20240701
DTEND;VALUE=DATE:20240702
DTSTAMP:20260424T012425
CREATED:20240702T190718Z
LAST-MODIFIED:20240702T190718Z
UID:10000544-1719792000-1719878399@mbjcc.org
SUMMARY:Camp Klurman Week 3
DESCRIPTION:Wacky Wednesday Dress up: Party in the USA \nWater Carnival—July 3: Miami Beach is hot in the summer! There is no better way to\nspend some time outside then zipping down water slides\, riding paddle boats and having\nextra swim time with your camp friends. The Water Carnival is so popular with the\ncampers we offer it twice!! Please send your camper to camp in a bathing suit and\nwearing sunscreen- water shirts are encouraged for these days.
URL:https://mbjcc.org/event/camp-klurman-week-3/
CATEGORIES:Camp
ATTACH;FMTTYPE=image/png:https://mbjcc.org/wp-content/uploads/2024/07/Camp-2024.png
END:VEVENT
END:VCALENDAR