BEGIN:VCALENDAR
VERSION:2.0
PRODID:-//Miami Beach JCC - ECPv6.15.5//NONSGML v1.0//EN
CALSCALE:GREGORIAN
METHOD:PUBLISH
X-WR-CALNAME:Miami Beach JCC
X-ORIGINAL-URL:https://mbjcc.org
X-WR-CALDESC:Events for Miami Beach JCC
REFRESH-INTERVAL;VALUE=DURATION:PT1H
X-Robots-Tag:noindex
X-PUBLISHED-TTL:PT1H
BEGIN:VTIMEZONE
TZID:America/New_York
BEGIN:DAYLIGHT
TZOFFSETFROM:-0500
TZOFFSETTO:-0400
TZNAME:EDT
DTSTART:20260308T070000
END:DAYLIGHT
BEGIN:STANDARD
TZOFFSETFROM:-0400
TZOFFSETTO:-0500
TZNAME:EST
DTSTART:20261101T060000
END:STANDARD
END:VTIMEZONE
BEGIN:VEVENT
DTSTART;TZID=America/New_York:20260216T120000
DTEND;TZID=America/New_York:20260216T153000
DTSTAMP:20260420T231438
CREATED:20251224T203515Z
LAST-MODIFIED:20251224T203515Z
UID:10001728-1771243200-1771255800@mbjcc.org
SUMMARY:Duplicate Bridge Game
DESCRIPTION:Bridge at the J with Jo-Ann Rauch\n$20 / Members $15\nSpend the afternoon playing a competitive game! We’ll match you with a partner so you can jump right in. \nGames Sign Up
URL:https://mbjcc.org/event/duplicate-bridge-game-2/2026-02-16/
LOCATION:Miami Beach JCC\, 4221 Pine Tree Drive\, Miami Beach\, FL\, 33140\, United States
CATEGORIES:Games
ORGANIZER;CN="Danny Reed":MAILTO:danny@mbjcc.org
END:VEVENT
BEGIN:VEVENT
DTSTART;TZID=America/New_York:20260217T133000
DTEND;TZID=America/New_York:20260217T150000
DTSTAMP:20260420T231438
CREATED:20260105T171954Z
LAST-MODIFIED:20260105T171954Z
UID:10007844-1771335000-1771340400@mbjcc.org
SUMMARY:Bridge Supervised Play with Jo-Ann Rauch
DESCRIPTION:$20 | Members: $15\nPractice what you’ve learned in real games with guidance from an\nexperienced instructor—get tips\, correct mistakes\, and sharpen\nyour strategy.
URL:https://mbjcc.org/event/bridge-supervised-play-with-jo-ann-rauch/2026-02-17/
LOCATION:Miami Beach JCC\, 4221 Pine Tree Drive\, Miami Beach\, FL\, 33140\, United States
CATEGORIES:Games
END:VEVENT
BEGIN:VEVENT
DTSTART;TZID=America/New_York:20260218T123000
DTEND;TZID=America/New_York:20260218T133000
DTSTAMP:20260420T231438
CREATED:20251201T204424Z
LAST-MODIFIED:20260120T174525Z
UID:10007654-1771417800-1771421400@mbjcc.org
SUMMARY:Literary Luncheon - Mary Morris
DESCRIPTION:Event Details\nThis work of historical fiction is a pageturner with an element of mystery. Beginning in 1937 Bombay and moving to Istanbul\, Prague\, and Florence\, it follows Sona\, a half Indian\, half British young nurse living with her beloved seamstress mother in a tiny apartment. \nSix Days in Bombay is about strong women and friendship\, facing one’s fears\, and accepting help and enjoying love when it presents itself. This stand-alone novel follows a series of three well loved books about the life experiences of women in India and as emigrants: The Henna Artist\, The Secret Keeper of Jaipur and The Perfumist of Paris. All are highly recommended. \nAlka Joshi is The New York Times bestselling author of The Henna Artist\, The Secret Keeper of Jaipur and The Perfumist of Paris. Longlisted for the Center for Fiction First Novel Prize\, The Henna Artist was a Reese Witherspoon Book Club Pick and has been translated into 29 languages. Alka graduated from Stanford University (BA ’80) and California College of Arts (MFA ’11).
URL:https://mbjcc.org/event/literary-luncheon-mary-morris/
LOCATION:Miami Beach JCC\, 4221 Pine Tree Drive\, Miami Beach\, FL\, 33140\, United States
CATEGORIES:arts + culture + ideas,Featured
ATTACH;FMTTYPE=image/jpeg:https://mbjcc.org/wp-content/uploads/2025/12/Levy1-superJumbo.jpg
END:VEVENT
BEGIN:VEVENT
DTSTART;TZID=America/New_York:20260219T193000
DTEND;TZID=America/New_York:20260219T210000
DTSTAMP:20260420T231438
CREATED:20251201T204523Z
LAST-MODIFIED:20260120T174655Z
UID:10007655-1771529400-1771534800@mbjcc.org
SUMMARY:An Evening with Sivan of Sivan's Kitchen- Cooking Demo
DESCRIPTION:Event Details\nYou don’t want to miss an evening with Sivan of Sivan’s Kitchen on Thursday\, February 19th at 7:30 pm for a cooking demo as she shares some of her favorite recipes! \nEach ticket includes a tasting\, recipe booklet and a gift. \nSivan Kobi is a passionate Recipe Developer and Content Creator dedicated to making cooking an artful and joyful experience. Drawing inspiration from her family’s baking legacy and guided by her husband\, Avi\, Sivan began sharing recipes on Instagram and grew a following of 1 million. She will share a delightful array of recipe\, from baked goods to hearty main meals\, as well as demo some of her favorites. \nBorn in Israel\, Sivan relocated to Los Angeles at a very young age. She grew up surrounded by her parents’ bakery and being immersed in the restaurant industry through her husband’s family\, the culinary world has always been a part of her life. Please join us for a wonderful evening! \nThis event is proudly chaired by Michelle Saka\, also known as MiamiFoodYenta \nThis program is generously sponsored by the Plotkin Family Am Yisrael Chai Series.
URL:https://mbjcc.org/event/an-evening-with-sivan-of-sivans-kitchen-cooking-demo/
LOCATION:Miami Beach JCC\, 4221 Pine Tree Drive\, Miami Beach\, FL\, 33140\, United States
CATEGORIES:arts + culture + ideas,Featured
ATTACH;FMTTYPE=image/png:https://mbjcc.org/wp-content/uploads/2025/12/Sivans-Kitchen-Print-Flyer-scaled.png
END:VEVENT
END:VCALENDAR