BEGIN:VCALENDAR
VERSION:2.0
PRODID:-//Miami Beach JCC - ECPv6.15.5//NONSGML v1.0//EN
CALSCALE:GREGORIAN
METHOD:PUBLISH
X-ORIGINAL-URL:https://mbjcc.org
X-WR-CALDESC:Events for Miami Beach JCC
REFRESH-INTERVAL;VALUE=DURATION:PT1H
X-Robots-Tag:noindex
X-PUBLISHED-TTL:PT1H
BEGIN:VTIMEZONE
TZID:UTC
BEGIN:STANDARD
TZOFFSETFROM:+0000
TZOFFSETTO:+0000
TZNAME:UTC
DTSTART:20240101T000000
END:STANDARD
END:VTIMEZONE
BEGIN:VEVENT
DTSTART;TZID=UTC:20240124T123000
DTEND;TZID=UTC:20240124T140000
DTSTAMP:20260421T230042
CREATED:20231222T224316Z
LAST-MODIFIED:20231222T224316Z
UID:10000477-1706099400-1706104800@mbjcc.org
SUMMARY:Lunch & Learn: Tu Beshvat Seder Exotic Fruit Tasting
DESCRIPTION:Tu Beshvat Seder Exotic Fruit Discovery Session (Fruit tasting) with Inna Lomanov  \nInna Lomanov\nFruitarian\, founder of the MFT21 Day Program\nInna Lomanov is the founder of the MFT21 Day Program. She is a fruitarian\, exotic fruit connoisseur\, fruit hunter\, plant based/raw vegan\, lifestyle expert\, chef\, and health coach from Long Island\, NY. Mother to three toddlers\, Inna helps and inspires people around the world to eat more fruit. In addition to blogging\, coaching and creating fruit events in the New York and Miami area\, Inna envisioned and developed the MFT21 Day Program. MFT21 includes practices such as face-fitness\, yoga and meditation. Inna does not believe in diets but rather helps people to change their lifestyle. Inna is always on the lookout for exotic\, unique\, and rare fruits. Her passion is introducing people to exotic fruits and the fruit-based lifestyle. Inna was born in Odessa\, Ukraine and came to the USA when she was 16. Aged 26 Inna went to Israel on Birthright\, and since then she has taken five groups to Israel.  For years\, Inna was involved in the local Jewish youth community in Brooklyn as a leader. She taught in the Aviv School for Leadership\, and took groups of students on educational visits to Poland and Israel. Inna dreams to inspire Jewish people to eat healthier\, take better care of their bodies\, be mindful of what they put into their bodies and how what they eat can affect their mood and sense of well-being.
URL:https://mbjcc.org/event/lljan24/
LOCATION:FL
CATEGORIES:Adult Learning,arts + culture + ideas,JCC-U,Lunch & Learn
ATTACH;FMTTYPE=image/png:https://mbjcc.org/wp-content/uploads/2023/12/1.24.24-ll-web-Images.png
END:VEVENT
END:VCALENDAR