BEGIN:VCALENDAR
VERSION:2.0
PRODID:-//Miami Beach JCC - ECPv6.15.5//NONSGML v1.0//EN
CALSCALE:GREGORIAN
METHOD:PUBLISH
X-ORIGINAL-URL:https://mbjcc.org
X-WR-CALDESC:Events for Miami Beach JCC
REFRESH-INTERVAL;VALUE=DURATION:PT1H
X-Robots-Tag:noindex
X-PUBLISHED-TTL:PT1H
BEGIN:VTIMEZONE
TZID:America/New_York
BEGIN:DAYLIGHT
TZOFFSETFROM:-0500
TZOFFSETTO:-0400
TZNAME:EDT
DTSTART:20250309T070000
END:DAYLIGHT
BEGIN:STANDARD
TZOFFSETFROM:-0400
TZOFFSETTO:-0500
TZNAME:EST
DTSTART:20251102T060000
END:STANDARD
END:VTIMEZONE
BEGIN:VEVENT
DTSTART;TZID=America/New_York:20250113T130000
DTEND;TZID=America/New_York:20250113T143000
DTSTAMP:20260419T203838
CREATED:20241220T235613Z
LAST-MODIFIED:20241220T235613Z
UID:10000583-1736773200-1736778600@mbjcc.org
SUMMARY:The Presidents' Tailor Florida Premiere
DESCRIPTION:The Presidents’ Tailor tells the remarkable story of Martin Greenfield\, a Holocaust survivor who became America’s most renowned tailor. Born Maximilian Grünfeld\, he survived Auschwitz and Buchenwald\, was liberated by Eisenhower\, and later built a menswear empire. Over seven decades\, Greenfield tailored suits for every president from Eisenhower to Obama\, and a who’s who of celebrities\, all while upholding his commitment to quality. Now 91\, Greenfield’s legacy endures through his family business. This documentary is a powerful tribute to his resilience\, optimism\, and enduring influence in the world of bespoke menswear.
URL:https://mbjcc.org/event/the-presidents-tailor-florida-premiere/
LOCATION:Miami Beach JCC\, 4221 Pine Tree Drive\, Miami Beach\, FL\, 33140\, United States
CATEGORIES:Films
ATTACH;FMTTYPE=image/jpeg:https://mbjcc.org/wp-content/uploads/2024/12/MV5BZTNlNmM0MmYtMmI0NS00MDg0LWJhMTUtMjBlZmY1MTA0OWE5XkEyXkFqcGc@._V1_QL75_UY562_CR10380562_.jpg
END:VEVENT
BEGIN:VEVENT
DTSTART;TZID=America/New_York:20250113T193000
DTEND;TZID=America/New_York:20250113T213000
DTSTAMP:20260419T203838
CREATED:20241221T000546Z
LAST-MODIFIED:20241221T000546Z
UID:10000584-1736796600-1736803800@mbjcc.org
SUMMARY:King of Sephardim Southeast US Premiere
DESCRIPTION:The King of Sephardim is a documentary that reveals the life of Rabbi Ovadia Yosef\, Israel’s most influential religious figure. Through exclusive access to his inner circle and archives\, the film explores his political and religious views\, highlighting how his bold and sometimes liberal rulings shaped Israel’s religious and social landscape. Born in Iraq and rising to Rishon LeZion\, Rabbi Yosef’s leadership restored Sephardic pride and left a lasting impact on Israeli society.
URL:https://mbjcc.org/event/king-of-sephardim-southeast-us-premiere/
LOCATION:Miami Beach JCC\, 4221 Pine Tree Drive\, Miami Beach\, FL\, 33140\, United States
CATEGORIES:Films
ATTACH;FMTTYPE=image/jpeg:https://mbjcc.org/wp-content/uploads/2024/12/Seph.jpg
END:VEVENT
END:VCALENDAR