BEGIN:VCALENDAR
VERSION:2.0
PRODID:-//Miami Beach JCC - ECPv6.15.5//NONSGML v1.0//EN
CALSCALE:GREGORIAN
METHOD:PUBLISH
X-ORIGINAL-URL:https://mbjcc.org
X-WR-CALDESC:Events for Miami Beach JCC
REFRESH-INTERVAL;VALUE=DURATION:PT1H
X-Robots-Tag:noindex
X-PUBLISHED-TTL:PT1H
BEGIN:VTIMEZONE
TZID:UTC
BEGIN:STANDARD
TZOFFSETFROM:+0000
TZOFFSETTO:+0000
TZNAME:UTC
DTSTART:20220101T000000
END:STANDARD
END:VTIMEZONE
BEGIN:VEVENT
DTSTART;TZID=UTC:20221024T123000
DTEND;TZID=UTC:20221024T143000
DTSTAMP:20260419T181115
CREATED:20221014T152604Z
LAST-MODIFIED:20221014T152604Z
UID:10000356-1666614600-1666621800@mbjcc.org
SUMMARY:Breast Cancer Awareness Month Special Book Event  Seven Days of Shiva: Forty Six Years of Puppy Love Marc Gellman
DESCRIPTION:Join us for a very special conversation with Marc Gellman\, who\, seized with grief at the loss of his beloved wife Barbara after a thirty-year battle with breast cancer\, turns to telling stories. \nThis unique memoir is much more than a tribute to a departed love. Their story shows how a cancer journey seamlessly entwines through a four decades-long love story.
URL:https://mbjcc.org/event/breast-cancer-awareness-month-special-book-event-seven-days-of-shiva-forty-six-years-of-puppy-love-marc-gellman/
LOCATION:FL\, United States
CATEGORIES:Adult Learning,arts + culture + ideas,Book Events
ATTACH;FMTTYPE=image/jpeg:https://mbjcc.org/wp-content/uploads/2022/10/7DaysofShiva_Cover_FINALFRONT_1-_002_.jpg
END:VEVENT
BEGIN:VEVENT
DTSTART;TZID=UTC:20221025T123000
DTEND;TZID=UTC:20221025T140000
DTSTAMP:20260419T181115
CREATED:20221014T153852Z
LAST-MODIFIED:20221014T180937Z
UID:10000358-1666701000-1666706400@mbjcc.org
SUMMARY:MBJCC Book Club: Debra Green - The Convention of Wives
DESCRIPTION:Dina and Julia first meet at a sur­gi­cal con­ven­tion and bond over frus­tra­tions with their hus­bands’ demand­ing sched­ules. But geog­ra­phy\, time\, and grow­ing fam­i­lies make main­tain­ing their friend­ship dif­fi­cult and their rela­tion­ship even­tu­al­ly falls apart. \nA sweep­ing saga that fol­lows gen­er­a­tions from a shtetl in Odessa to the com­forts of Scars­dale\, an upris­ing in Glas­gow to servi­tude in the Caribbean\, and a trek through the Alps to a dis­placed per­sons camp in Italy\, The Con­ven­tion of Wives is a sto­ry about the ever-evolv­ing messi­ness of friend­ship and mar­riage\, and the won­der of survival. \nThe Convention of Wives is Debra Green’s first novel.
URL:https://mbjcc.org/event/mbjcc-book-club-debra-green-the-convention-of-wives/
LOCATION:FL\, United States
CATEGORIES:Adult Learning,arts + culture + ideas,Book Club
ATTACH;FMTTYPE=image/jpeg:https://mbjcc.org/wp-content/uploads/2022/10/The-Convention-of-Wives.jpg
END:VEVENT
END:VCALENDAR