BEGIN:VCALENDAR
VERSION:2.0
PRODID:-//Miami Beach JCC - ECPv6.15.5//NONSGML v1.0//EN
CALSCALE:GREGORIAN
METHOD:PUBLISH
X-ORIGINAL-URL:https://mbjcc.org
X-WR-CALDESC:Events for Miami Beach JCC
REFRESH-INTERVAL;VALUE=DURATION:PT1H
X-Robots-Tag:noindex
X-PUBLISHED-TTL:PT1H
BEGIN:VTIMEZONE
TZID:UTC
BEGIN:STANDARD
TZOFFSETFROM:+0000
TZOFFSETTO:+0000
TZNAME:UTC
DTSTART:20210101T000000
END:STANDARD
END:VTIMEZONE
BEGIN:VEVENT
DTSTART;TZID=UTC:20211214T120000
DTEND;TZID=UTC:20211214T140000
DTSTAMP:20260419T103823
CREATED:20211013T170735Z
LAST-MODIFIED:20211122T203230Z
UID:10000263-1639483200-1639490400@mbjcc.org
SUMMARY:MBJCC Book Club: The Hidden Palace\, by Helene Wecker (Virtual)
DESCRIPTION:
URL:https://mbjcc.org/event/mbjcc-book-club-the-hidden-palace-by-helene-wecker-virtual/
LOCATION:FL\, United States
CATEGORIES:arts + culture + ideas,Book Club,Book Events
ATTACH;FMTTYPE=image/jpeg:https://mbjcc.org/wp-content/uploads/2021/10/The-Hiden-Palace.jpeg
END:VEVENT
BEGIN:VEVENT
DTSTART;TZID=UTC:20211215T123000
DTEND;TZID=UTC:20211215T143000
DTSTAMP:20260419T103823
CREATED:20211207T215906Z
LAST-MODIFIED:20211207T215906Z
UID:10000268-1639571400-1639578600@mbjcc.org
SUMMARY:The Lost Restaurants of Greater Miami with Seth Bramson
DESCRIPTION:In-person and Virtual \nSeth Bramson is “Mr. Miami Memorabilia\,” and he is America’s senior collector of Miami memorabilia and Floridiana. His collection of—as he likes to say—“all that junque!”—is the largest in private hands in America\, but\, and in addition\, his collection of Greater Miami restaurant and club memorabilia is the largest in public or private hands in the country\, not really surprising as he has been collecting for now sixty-three plus years! \nSeth will speak about “The Lost Restaurants of Greater Miami” and will bring artifacts and memorabilia to his presentation.
URL:https://mbjcc.org/event/the-lost-restaurants-of-greater-miami-with-seth-bramson/
LOCATION:Miami Beach JCC\, 4221 Pine Tree Drive\, Miami Beach\, FL\, 33140\, United States
CATEGORIES:arts + culture + ideas,Book Events
ATTACH;FMTTYPE=image/jpeg:https://mbjcc.org/wp-content/uploads/2021/12/image-4.jpeg
END:VEVENT
BEGIN:VEVENT
DTSTART;TZID=UTC:20211216T130000
DTEND;TZID=UTC:20211216T150000
DTSTAMP:20260419T103823
CREATED:20211207T220124Z
LAST-MODIFIED:20211207T220833Z
UID:10000269-1639659600-1639666800@mbjcc.org
SUMMARY:Florida Book Series: Lori Kaufmann\, Rebel Daughter
DESCRIPTION:Welcome to the Florida JCCs Book & Author Series. \nLori Kaufmann\, The Rebel Daughter \nA young woman survives the unthinkable in this stunning and emotionally satisfying tale of family\, love\, and resilience\, set against the destruction of Jerusalem in 70 CE. \nLORI BANOV KAUFMANN was a strategy consultant for high-tech companies before she became a writer. She has an AB from Princeton University and an MBA from the Harvard Business School. When she learned about the discovery of the first-century tombstone\, she wanted to know more. She was captivated by the ancient love story the stone revealed\, which served as the inspiration for this book. Rebel Daughter is her debut novel. Lori Banov Kaufmann lives in Israel with her husband and four adult children.
URL:https://mbjcc.org/event/florida-book-series-lori-kaufmann-rebel-daughter/
LOCATION:FL\, United States
CATEGORIES:arts + culture + ideas,Book Events
ATTACH;FMTTYPE=image/jpeg:https://mbjcc.org/wp-content/uploads/2021/12/image-5.jpeg
END:VEVENT
END:VCALENDAR