BEGIN:VCALENDAR
VERSION:2.0
PRODID:-//Miami Beach JCC - ECPv6.15.5//NONSGML v1.0//EN
CALSCALE:GREGORIAN
METHOD:PUBLISH
X-ORIGINAL-URL:https://mbjcc.org
X-WR-CALDESC:Events for Miami Beach JCC
REFRESH-INTERVAL;VALUE=DURATION:PT1H
X-Robots-Tag:noindex
X-PUBLISHED-TTL:PT1H
BEGIN:VTIMEZONE
TZID:UTC
BEGIN:STANDARD
TZOFFSETFROM:+0000
TZOFFSETTO:+0000
TZNAME:UTC
DTSTART:20210101T000000
END:STANDARD
END:VTIMEZONE
BEGIN:VEVENT
DTSTART;TZID=UTC:20211208T123000
DTEND;TZID=UTC:20211208T143000
DTSTAMP:20260423T022539
CREATED:20211207T214747Z
LAST-MODIFIED:20211207T214747Z
UID:10000222-1638966600-1638973800@mbjcc.org
SUMMARY:MBJCC Literary Series: Jonathan Santlofer\, The Last Mona Lisa
DESCRIPTION:The Last Mona Lisa is an alluring\, fascinating tale predominantly set in Paris during 1911\, as well as present-day Florence\, that takes us into the lives of Vincent Peruggia\, a young man who\, after losing his wife suddenly to illness\, will do whatever it takes to earn enough money to be reunited with his son\, as well as his great-grandson Luke Perrone\, an art historian who is consumed with all things Mona Lisa who heads to Italy to find his great grandfather’s long-lost journal to discover once and for all why he stole the painting\, where it was kept for the two years before it was returned\, and ultimately\, before everyone who knows about the journal\, including himself\, ends up dead\, finally discover whether the original or merely a fake is now actually hanging in the infamous museum.
URL:https://mbjcc.org/event/mbjcc-literary-series-jonathan-santlofer-the-last-mona-lisa/
LOCATION:Miami Beach JCC\, 4221 Pine Tree Drive\, Miami Beach\, FL\, 33140\, United States
CATEGORIES:arts + culture + ideas,Book Events
ATTACH;FMTTYPE=image/jpeg:https://mbjcc.org/wp-content/uploads/2021/12/image-1.jpeg
END:VEVENT
END:VCALENDAR