BEGIN:VCALENDAR
VERSION:2.0
PRODID:-//Miami Beach JCC - ECPv6.15.5//NONSGML v1.0//EN
CALSCALE:GREGORIAN
METHOD:PUBLISH
X-ORIGINAL-URL:https://mbjcc.org
X-WR-CALDESC:Events for Miami Beach JCC
REFRESH-INTERVAL;VALUE=DURATION:PT1H
X-Robots-Tag:noindex
X-PUBLISHED-TTL:PT1H
BEGIN:VTIMEZONE
TZID:UTC
BEGIN:STANDARD
TZOFFSETFROM:+0000
TZOFFSETTO:+0000
TZNAME:UTC
DTSTART:20240101T000000
END:STANDARD
END:VTIMEZONE
BEGIN:VEVENT
DTSTART;TZID=UTC:20240501T193000
DTEND;TZID=UTC:20240501T210000
DTSTAMP:20260422T162533
CREATED:20240418T174832Z
LAST-MODIFIED:20240418T174832Z
UID:10000532-1714591800-1714597200@mbjcc.org
SUMMARY:Play Reading: The Little Flower and the Last Dinosaur
DESCRIPTION:RSVP\nJoin YI Love Jewish for a free play reading of The Little Flower and The Last Dinosaur by Eleanor Reissa on Wednesday\, May 1 at the Miami Beach JCC. This free event features two contrasting monologues delivered with musical accompaniment. The play explores themes of resilience and hope through the eyes of a tiny flower and a lonely dinosaur facing a changing world. \nAcclaimed playwright Eleanor Reissa brings her talents to the stage. Reissa boasts an impressive career including Tony nominations\, Broadway and television appearances\, along with extensive experience in directing and storytelling. \nThis play reading is part of YI Love Jewish’s ongoing series that aims to educate and entertain audiences while exploring Jewish life\, culture\, language\, and history. Previous readings have been filmed and made accessible to schools\, Jewish centers and online audiences worldwide. \n  \n  \n 
URL:https://mbjcc.org/event/playeflower/
LOCATION:FL
CATEGORIES:Adult Learning,arts + culture + ideas,Play Reading
ATTACH;FMTTYPE=image/png:https://mbjcc.org/wp-content/uploads/2024/04/2024-May-1-Website-Header.png
END:VEVENT
END:VCALENDAR