BEGIN:VCALENDAR
VERSION:2.0
PRODID:-//Miami Beach JCC - ECPv6.15.5//NONSGML v1.0//EN
CALSCALE:GREGORIAN
METHOD:PUBLISH
X-WR-CALNAME:Miami Beach JCC
X-ORIGINAL-URL:https://mbjcc.org
X-WR-CALDESC:Events for Miami Beach JCC
REFRESH-INTERVAL;VALUE=DURATION:PT1H
X-Robots-Tag:noindex
X-PUBLISHED-TTL:PT1H
BEGIN:VTIMEZONE
TZID:UTC
BEGIN:STANDARD
TZOFFSETFROM:+0000
TZOFFSETTO:+0000
TZNAME:UTC
DTSTART:20230101T000000
END:STANDARD
END:VTIMEZONE
BEGIN:VEVENT
DTSTART;TZID=UTC:20230329T123000
DTEND;TZID=UTC:20230329T140000
DTSTAMP:20260420T133812
CREATED:20230221T200723Z
LAST-MODIFIED:20230221T200723Z
UID:10000344-1680093000-1680098400@mbjcc.org
SUMMARY:Rochelle Weinstein
DESCRIPTION:Rochelle\, a USA Today best-selling author\, will talk about her latest book\, “When We Let Go.” A moving novel about family and forgiveness and hope and healing. She will be in conversation with Lauren Margolin\, who is known as “The Good Book Fairy.” Lauren will share some of her favorite Jewish book picks!
URL:https://mbjcc.org/event/rochelle-weinstein/
LOCATION:FL\, United States
CATEGORIES:Adult Learning,Book Events,Lunch & Learn
ATTACH;FMTTYPE=image/png:https://mbjcc.org/wp-content/uploads/2023/02/Screen-Shot-2023-02-21-at-10.00.19-AM.png
END:VEVENT
BEGIN:VEVENT
DTSTART;TZID=UTC:20230329T193000
DTEND;TZID=UTC:20230329T213000
DTSTAMP:20260420T133812
CREATED:20230221T201041Z
LAST-MODIFIED:20230221T201041Z
UID:10000346-1680118200-1680125400@mbjcc.org
SUMMARY:Special Speaker Sivan Ya'ari
DESCRIPTION:Special Speaker: Sivan Ya’ari\, Founder and CEO of Innovation Africa\nSivan Ya’ari\, named one of 50 “Most Influential Women in Israel” by Forbes\, joins us for an inspiring conversation about her work as founder and CEO of Innovation Africa\, a nonprofit that brings Israeli solar\, agricultural and water technologies to African villages. Sivan will be joined by Audrey Weiner\, Board Member of Innovation Africa and Board Member of The Miami Beach JCC\, as well as Laura Steckler\, Senior Vice President\, Investments and Managing Director\, Investments Steckler Wealth Management Group. Laura worked with Sivan and Innovation Africa to bring water to approximately 4000 people in a village in South Africa.
URL:https://mbjcc.org/event/special-speaker-sivan-yaari/
LOCATION:FL\, United States
CATEGORIES:Adult Learning,arts + culture + ideas,Special Event
ATTACH;FMTTYPE=image/png:https://mbjcc.org/wp-content/uploads/2023/02/Screen-Shot-2023-02-21-at-10.00.31-AM.png
END:VEVENT
END:VCALENDAR