BEGIN:VCALENDAR
VERSION:2.0
PRODID:-//Miami Beach JCC - ECPv6.15.5//NONSGML v1.0//EN
CALSCALE:GREGORIAN
METHOD:PUBLISH
X-WR-CALNAME:Miami Beach JCC
X-ORIGINAL-URL:https://mbjcc.org
X-WR-CALDESC:Events for Miami Beach JCC
REFRESH-INTERVAL;VALUE=DURATION:PT1H
X-Robots-Tag:noindex
X-PUBLISHED-TTL:PT1H
BEGIN:VTIMEZONE
TZID:UTC
BEGIN:STANDARD
TZOFFSETFROM:+0000
TZOFFSETTO:+0000
TZNAME:UTC
DTSTART:20230101T000000
END:STANDARD
END:VTIMEZONE
BEGIN:VEVENT
DTSTART;TZID=UTC:20230130T193000
DTEND;TZID=UTC:20230130T213000
DTSTAMP:20260422T220231
CREATED:20230124T194952Z
LAST-MODIFIED:20230124T200021Z
UID:10000399-1675107000-1675114200@mbjcc.org
SUMMARY:Geneuary Soar To Genomic Discovery
DESCRIPTION:Evening of hope and scientific discovery. Conversation with panel of 3 doctors.
URL:https://mbjcc.org/event/geneuary-soar-to-genomic-discovery/
LOCATION:FL\, United States
CATEGORIES:Adult Learning,arts + culture + ideas,Community Event,Special Event
ATTACH;FMTTYPE=image/png:https://mbjcc.org/wp-content/uploads/2023/01/Screen-Shot-2023-01-24-at-9.42.28-AM.png
END:VEVENT
BEGIN:VEVENT
DTSTART;TZID=UTC:20230202T193000
DTEND;TZID=UTC:20230202T210000
DTSTAMP:20260422T220231
CREATED:20230103T222931Z
LAST-MODIFIED:20230103T222931Z
UID:10000389-1675366200-1675371600@mbjcc.org
SUMMARY:FL JCC Author Event: Arielle Silverman-Just Human
DESCRIPTION:Judaism calls upon us to continually improve our world. Just Human tells the story of a blind Jewish woman’s journey toward building inclusion for all. Born without sight\, Dr. Arielle Silverman has spent a lifetime exploring ways to foster respect and inclusion for all of us whose bodies or minds differ from the norm.
URL:https://mbjcc.org/event/fl-jcc-author-event-arielle-silverman-just-human/
LOCATION:FL\, United States
CATEGORIES:Adult Learning,arts + culture + ideas,Book Events
ATTACH;FMTTYPE=image/png:https://mbjcc.org/wp-content/uploads/2022/12/Screen-Shot-2022-12-14-at-12.19.32-PM.png
END:VEVENT
END:VCALENDAR