BEGIN:VCALENDAR
VERSION:2.0
PRODID:-//Miami Beach JCC - ECPv6.15.5//NONSGML v1.0//EN
CALSCALE:GREGORIAN
METHOD:PUBLISH
X-WR-CALNAME:Miami Beach JCC
X-ORIGINAL-URL:https://mbjcc.org
X-WR-CALDESC:Events for Miami Beach JCC
REFRESH-INTERVAL;VALUE=DURATION:PT1H
X-Robots-Tag:noindex
X-PUBLISHED-TTL:PT1H
BEGIN:VTIMEZONE
TZID:UTC
BEGIN:STANDARD
TZOFFSETFROM:+0000
TZOFFSETTO:+0000
TZNAME:UTC
DTSTART:20230101T000000
END:STANDARD
END:VTIMEZONE
BEGIN:VEVENT
DTSTART;TZID=UTC:20231106T193000
DTEND;TZID=UTC:20231106T210000
DTSTAMP:20260420T145303
CREATED:20231009T194857Z
LAST-MODIFIED:20231026T233746Z
UID:10000441-1699299000-1699304400@mbjcc.org
SUMMARY:Play Reading - The Soap Myth
DESCRIPTION:The Soap Myth by Jeff Cohen\n  \nAbout\nPresented by YILove Jewish\, the Miami Beach JCC is delighted to invite you to this series of Jewish themed play readings that we offer throughout the year. Our upcoming reading\, “The Soap Myth” by Jeff Cohen\, will be performed by the renowned local stage actor\, Avi Hoffman\, alongside a talented cast. \nPlay Synopsis\nSet more than fifty years post-WWII\, “The Soap Myth” delves deep into a young Jewish reporter’s quest for truth. He seeks answers to the haunting question – did the Nazis\, in their unspeakable cruelty\, manufacture soap from the corpses of their Jewish victims? The play paints a vivid picture\, juxtaposing survivors\, scholars\, and Holocaust deniers\, and compellingly poses the question: Who really gets to inscribe history? \n\n 
URL:https://mbjcc.org/event/play-reading-the-soap-myth/
LOCATION:FL
CATEGORIES:Adult Learning,arts + culture + ideas,Play Reading
ATTACH;FMTTYPE=image/png:https://mbjcc.org/wp-content/uploads/2023/10/2023-Nov-Play-Reading-Website-Event-Headers-Template.png
END:VEVENT
BEGIN:VEVENT
DTSTART;TZID=UTC:20231108T090000
DTEND;TZID=UTC:20231108T140000
DTSTAMP:20260420T145303
CREATED:20231026T205306Z
LAST-MODIFIED:20231026T214719Z
UID:10000443-1699434000-1699452000@mbjcc.org
SUMMARY:JCC-U Opening Event
DESCRIPTION:Please join us for the special JCC-U Opening event with a special keynote speaker Liel Leibovits. \nThe line-up of classes for the day will include:\nMusic Appreciation with Alan Mason\nArt History experience with Natanya Blanck\nSpecial Lunch & Learn program with Liel Leibovitz. \nLiel Lei­bovitz is the edi­tor at large for Tablet Mag­a­zine and the host of several of its pop­u­lar pod­casts\, including Unortho­dox and Take One. \nMeet the instructors\, register for classes\, and make new friends. \nFree lunch will be served. \nThe JCC-U program made possible with the generous support of Baptist Health. \n 
URL:https://mbjcc.org/event/jcc-u-opening-event/
LOCATION:FL
CATEGORIES:Adult Learning,arts + culture + ideas,JCC-U,Lunch & Learn
ATTACH;FMTTYPE=image/png:https://mbjcc.org/wp-content/uploads/2023/10/11.8-arts-culture-ideas-Event-Headers.png
END:VEVENT
BEGIN:VEVENT
DTSTART;TZID=UTC:20231129T123000
DTEND;TZID=UTC:20231129T140000
DTSTAMP:20260420T145303
CREATED:20231026T210744Z
LAST-MODIFIED:20231026T210744Z
UID:10000445-1701261000-1701266400@mbjcc.org
SUMMARY:Israel: What’s happening?
DESCRIPTION: Lunch and Learn with Yehuda Michael \nWe’ll discuss current Israeli affairs focusing on war in Israel. We can look into the reason behind the current war in Israel. How the current war is different than the previous operations in Gaza? The impact of the war on the region and beyond. Where is this going into and other aspects?
URL:https://mbjcc.org/event/israel-whats-happening/
LOCATION:FL
CATEGORIES:Adult Learning,arts + culture + ideas,JCC-U,Lunch & Learn
ATTACH;FMTTYPE=image/png:https://mbjcc.org/wp-content/uploads/2023/10/11.29-arts-culture-ideas-Event-Headers.png
END:VEVENT
BEGIN:VEVENT
DTSTART;TZID=UTC:20231130T190000
DTEND;TZID=UTC:20231130T213000
DTSTAMP:20260420T145303
CREATED:20231120T180907Z
LAST-MODIFIED:20231120T180907Z
UID:10000460-1701370800-1701379800@mbjcc.org
SUMMARY:Ceramic Workshop: Fruit Bowls
DESCRIPTION:Please join us at Miami Beach JCC on Thursday\, November 30th at 7PM for the Ceramic Fruit Bowl making Workshop. \nIn this workshop we’ll guide you through hand building a beautiful pottery fruit bowl. You will choose your own design and glaze options and will have a handmade fruit bowl to use at home.
URL:https://mbjcc.org/event/fruitbowl/
LOCATION:Miami Beach JCC\, 4221 Pine Tree Drive\, Miami Beach\, FL\, 33140\, United States
CATEGORIES:Adult Learning,arts + culture + ideas,Special Event
ATTACH;FMTTYPE=image/png:https://mbjcc.org/wp-content/uploads/2023/11/2023-ceramic-Website-Event-Headers-Template.png
END:VEVENT
END:VCALENDAR