BEGIN:VCALENDAR
VERSION:2.0
PRODID:-//Miami Beach JCC - ECPv6.15.5//NONSGML v1.0//EN
CALSCALE:GREGORIAN
METHOD:PUBLISH
X-WR-CALNAME:Miami Beach JCC
X-ORIGINAL-URL:https://mbjcc.org
X-WR-CALDESC:Events for Miami Beach JCC
REFRESH-INTERVAL;VALUE=DURATION:PT1H
X-Robots-Tag:noindex
X-PUBLISHED-TTL:PT1H
BEGIN:VTIMEZONE
TZID:America/New_York
BEGIN:DAYLIGHT
TZOFFSETFROM:-0500
TZOFFSETTO:-0400
TZNAME:EDT
DTSTART:20260308T070000
END:DAYLIGHT
BEGIN:STANDARD
TZOFFSETFROM:-0400
TZOFFSETTO:-0500
TZNAME:EST
DTSTART:20261101T060000
END:STANDARD
END:VTIMEZONE
BEGIN:VEVENT
DTSTART;TZID=America/New_York:20260112T100000
DTEND;TZID=America/New_York:20260112T233000
DTSTAMP:20260420T181919
CREATED:20260105T210539Z
LAST-MODIFIED:20260105T210613Z
UID:10007958-1768212000-1768260600@mbjcc.org
SUMMARY:Beginner Mah Jongg with Rachel Weissman and Barbara Burg
DESCRIPTION:5 Week Session Starting January 12\n$160 | Members: $100\nLearn the fundamentals of the game everyone’s playing! You’ll gain\nthe skills to play with confidence and join games with ease.
URL:https://mbjcc.org/event/beginner-mah-jongg-with-rachel-weissman-and-barbara-burg/2026-01-12/
LOCATION:Miami Beach JCC\, 4221 Pine Tree Drive\, Miami Beach\, FL\, 33140\, United States
CATEGORIES:JCC-U
END:VEVENT
BEGIN:VEVENT
DTSTART;TZID=America/New_York:20260112T110000
DTEND;TZID=America/New_York:20260112T170000
DTSTAMP:20260420T181919
CREATED:20260105T164537Z
LAST-MODIFIED:20260105T164537Z
UID:10007826-1768215600-1768237200@mbjcc.org
SUMMARY:Balance & Fall Prevention with Marta Molnar
DESCRIPTION:Free for Members | $20 for Non-Members\nStay active\, steady\, and confident! This supportive\,\ninteractive class is designed to improve balance and\nposture\, increase your activity level\, reduce the fear\nof falling\, and boost your overall quality of life. Take steps today to\nprevent falls and feel your best!
URL:https://mbjcc.org/event/balance-fall-prevention-with-marta-molnar-2/2026-01-12/
LOCATION:Miami Beach JCC\, 4221 Pine Tree Drive\, Miami Beach\, FL\, 33140\, United States
CATEGORIES:JCC-U
END:VEVENT
BEGIN:VEVENT
DTSTART;TZID=America/New_York:20260112T120000
DTEND;TZID=America/New_York:20260112T140000
DTSTAMP:20260420T181919
CREATED:20260105T164709Z
LAST-MODIFIED:20260105T164709Z
UID:10007832-1768219200-1768226400@mbjcc.org
SUMMARY:Game Time / Open Play
DESCRIPTION:$10 | Free for Members\nGrab your friends\, your favorite game\, and join\nus for a laid-back afternoon of laughs\, strategy\, and good company!\nWe’ll have the tables\, coffee\, and cozy vibes—you bring the fun.
URL:https://mbjcc.org/event/game-time-open-play/2026-01-12/
LOCATION:Miami Beach JCC\, 4221 Pine Tree Drive\, Miami Beach\, FL\, 33140\, United States
END:VEVENT
BEGIN:VEVENT
DTSTART;TZID=America/New_York:20260112T120000
DTEND;TZID=America/New_York:20260112T153000
DTSTAMP:20260420T181919
CREATED:20251224T203515Z
LAST-MODIFIED:20251224T203515Z
UID:10001723-1768219200-1768231800@mbjcc.org
SUMMARY:Duplicate Bridge Game
DESCRIPTION:Bridge at the J with Jo-Ann Rauch\n$20 / Members $15\nSpend the afternoon playing a competitive game! We’ll match you with a partner so you can jump right in. \nGames Sign Up
URL:https://mbjcc.org/event/duplicate-bridge-game-2/2026-01-12/
LOCATION:Miami Beach JCC\, 4221 Pine Tree Drive\, Miami Beach\, FL\, 33140\, United States
CATEGORIES:Games
ORGANIZER;CN="Danny Reed":MAILTO:danny@mbjcc.org
END:VEVENT
END:VCALENDAR