BEGIN:VCALENDAR
VERSION:2.0
PRODID:-//Miami Beach JCC - ECPv6.15.5//NONSGML v1.0//EN
CALSCALE:GREGORIAN
METHOD:PUBLISH
X-WR-CALNAME:Miami Beach JCC
X-ORIGINAL-URL:https://mbjcc.org
X-WR-CALDESC:Events for Miami Beach JCC
REFRESH-INTERVAL;VALUE=DURATION:PT1H
X-Robots-Tag:noindex
X-PUBLISHED-TTL:PT1H
BEGIN:VTIMEZONE
TZID:UTC
BEGIN:STANDARD
TZOFFSETFROM:+0000
TZOFFSETTO:+0000
TZNAME:UTC
DTSTART:20240101T000000
END:STANDARD
END:VTIMEZONE
BEGIN:VEVENT
DTSTART;TZID=UTC:20240428T070000
DTEND;TZID=UTC:20240428T160000
DTSTAMP:20260420T105558
CREATED:20240410T234711Z
LAST-MODIFIED:20240410T234711Z
UID:10000526-1714287600-1714320000@mbjcc.org
SUMMARY:Holiday Schedule: Close at 4 PM
DESCRIPTION:Monday\, April 22 – Erev Passover • Close at 4 PM \nTuesday\, April 23 – Passover • CLOSED \nWednesday\, April 24 – Passover • Pool & Fitness Only \nSunday\, April 28 – Erev Passover • Close at 4 PM \nMonday\, April 29 – Passover • CLOSED \nTuesday\, April 30 – Passover • Pool & Fitness Only
URL:https://mbjcc.org/event/passover-erev-2/
LOCATION:FL
CATEGORIES:Holiday Hours
ATTACH;FMTTYPE=image/png:https://mbjcc.org/wp-content/uploads/2024/04/2024-April-Website-Header_ASP.png
END:VEVENT
END:VCALENDAR