BEGIN:VCALENDAR
VERSION:2.0
PRODID:-//Miami Beach JCC - ECPv6.15.5//NONSGML v1.0//EN
CALSCALE:GREGORIAN
METHOD:PUBLISH
X-WR-CALNAME:Miami Beach JCC
X-ORIGINAL-URL:https://mbjcc.org
X-WR-CALDESC:Events for Miami Beach JCC
REFRESH-INTERVAL;VALUE=DURATION:PT1H
X-Robots-Tag:noindex
X-PUBLISHED-TTL:PT1H
BEGIN:VTIMEZONE
TZID:UTC
BEGIN:STANDARD
TZOFFSETFROM:+0000
TZOFFSETTO:+0000
TZNAME:UTC
DTSTART:20240101T000000
END:STANDARD
END:VTIMEZONE
BEGIN:VEVENT
DTSTART;TZID=UTC:20240118T193000
DTEND;TZID=UTC:20240118T213000
DTSTAMP:20260420T035029
CREATED:20231222T223650Z
LAST-MODIFIED:20231222T230545Z
UID:10000475-1705606200-1705613400@mbjcc.org
SUMMARY:MJFF - WHO ARE THE MARCUSES?
DESCRIPTION:FLORIDA PREMIERE. This year’s “great documentary” uncovers the fascinating story of a Long Island Jewish couple whose half-a-billion-dollar gift to Israel\, the largest single gift in the history of the state\, is aimed at inspiring peace and climate action through water tech. \nThis special premiere event will feature the attendance of Ellen Marcus\, Lottie & Howard Marcuses daughter\, who will introduce the film and participate in a conversation afterward.
URL:https://mbjcc.org/event/mjffmarcuses/
LOCATION:Miami Beach JCC\, 4221 Pine Tree Drive\, Miami Beach\, FL\, 33140\, United States
CATEGORIES:arts + culture + ideas,Films,Israeli Film Series
ATTACH;FMTTYPE=image/png:https://mbjcc.org/wp-content/uploads/2023/12/1.18.24-ff-web-Images.png
END:VEVENT
END:VCALENDAR