BEGIN:VCALENDAR
VERSION:2.0
PRODID:-//Miami Beach JCC - ECPv6.15.5//NONSGML v1.0//EN
CALSCALE:GREGORIAN
METHOD:PUBLISH
X-WR-CALNAME:Miami Beach JCC
X-ORIGINAL-URL:https://mbjcc.org
X-WR-CALDESC:Events for Miami Beach JCC
REFRESH-INTERVAL;VALUE=DURATION:PT1H
X-Robots-Tag:noindex
X-PUBLISHED-TTL:PT1H
BEGIN:VTIMEZONE
TZID:UTC
BEGIN:STANDARD
TZOFFSETFROM:+0000
TZOFFSETTO:+0000
TZNAME:UTC
DTSTART:20230101T000000
END:STANDARD
END:VTIMEZONE
BEGIN:VEVENT
DTSTART;TZID=UTC:20230109T130000
DTEND;TZID=UTC:20230109T143000
DTSTAMP:20260421T101326
CREATED:20230103T221804Z
LAST-MODIFIED:20230103T221804Z
UID:10000384-1673269200-1673274600@mbjcc.org
SUMMARY:FL JCC Author Event: Rina Raphael- The Gospel of Wellness
DESCRIPTION:The desire to be healthy is anything but new. But what we’re witnessing today is completely unlike its predecessors. Wellness\, in its current form\, is almost an obsession for the American woman. The Gospel of Wellness examines how and why American women were led down this costly path. Part investigative report\, part sociological analysis\, part personal account\, this book will dive dep into this booming movement.
URL:https://mbjcc.org/event/fl-jcc-author-event-rina-raphael-the-gospel-of-wellness/
LOCATION:FL\, United States
CATEGORIES:Adult Learning,arts + culture + ideas,Book Events
ATTACH;FMTTYPE=image/png:https://mbjcc.org/wp-content/uploads/2022/12/Screen-Shot-2022-12-14-at-12.18.56-PM.png
END:VEVENT
END:VCALENDAR