BEGIN:VCALENDAR
VERSION:2.0
PRODID:-//Miami Beach JCC - ECPv6.15.5//NONSGML v1.0//EN
CALSCALE:GREGORIAN
METHOD:PUBLISH
X-WR-CALNAME:Miami Beach JCC
X-ORIGINAL-URL:https://mbjcc.org
X-WR-CALDESC:Events for Miami Beach JCC
REFRESH-INTERVAL;VALUE=DURATION:PT1H
X-Robots-Tag:noindex
X-PUBLISHED-TTL:PT1H
BEGIN:VTIMEZONE
TZID:UTC
BEGIN:STANDARD
TZOFFSETFROM:+0000
TZOFFSETTO:+0000
TZNAME:UTC
DTSTART:20220101T000000
END:STANDARD
END:VTIMEZONE
BEGIN:VEVENT
DTSTART;TZID=UTC:20220118T100000
DTEND;TZID=UTC:20220118T120000
DTSTAMP:20260422T143108
CREATED:20211013T180543Z
LAST-MODIFIED:20220106T231317Z
UID:10000264-1642500000-1642507200@mbjcc.org
SUMMARY:MBJCC Book Club: A Play for the End of the World\, by Jai Chakrabarti (Virtual)
DESCRIPTION:
URL:https://mbjcc.org/event/mbjcc-book-club-a-play-for-the-end-of-the-world-by-jai-chakrabarti-virtual/
LOCATION:FL\, United States
CATEGORIES:arts + culture + ideas,Book Club,Book Events
ATTACH;FMTTYPE=image/jpeg:https://mbjcc.org/wp-content/uploads/2021/10/A-play-for-the-end-of-the-world-1.jpeg
END:VEVENT
END:VCALENDAR