BEGIN:VCALENDAR
VERSION:2.0
PRODID:-//Miami Beach JCC - ECPv6.15.5//NONSGML v1.0//EN
CALSCALE:GREGORIAN
METHOD:PUBLISH
X-WR-CALNAME:Miami Beach JCC
X-ORIGINAL-URL:https://mbjcc.org
X-WR-CALDESC:Events for Miami Beach JCC
REFRESH-INTERVAL;VALUE=DURATION:PT1H
X-Robots-Tag:noindex
X-PUBLISHED-TTL:PT1H
BEGIN:VTIMEZONE
TZID:UTC
BEGIN:STANDARD
TZOFFSETFROM:+0000
TZOFFSETTO:+0000
TZNAME:UTC
DTSTART:20210101T000000
END:STANDARD
END:VTIMEZONE
BEGIN:VEVENT
DTSTART;TZID=UTC:20211024T203000
DTEND;TZID=UTC:20211024T220000
DTSTAMP:20260421T151314
CREATED:20211006T180736Z
LAST-MODIFIED:20211006T180824Z
UID:10000261-1635107400-1635112800@mbjcc.org
SUMMARY:Jfest: Sparking the Jewish Story: The Objects That Define Us  (Virtual)
DESCRIPTION:COMMUNITY EVENT: JFEST\nSparking the Jewish Story: The Objects That Define Us\nJewish Book Council\, Reboot\, and JFest present Laura Arnold Leibman\, author of the National Jewish Book Award-winning “The Art of the Jewish Family\,” in conversation with Juliet Simmons\, creator of Reboot’s “What Would You Bring” initiative. They’ll discuss Jewish storytelling\, resilience\, and the power of collective memory with moderator Kendell Pinkney\, a Jewish educator\, theatre-maker\, rabbinical student\, and creator of a Jewish Theological Seminary (JTS) arts and culture fellowship for professional JOCISM (Jews of Color\, Indigenous Jews\, Sephardi\, and Mizrahi) artists.
URL:https://mbjcc.org/event/jfest-sparking-the-jewish-story-the-objects-that-define-us-virtual/
LOCATION:FL\, United States
CATEGORIES:Community Event
ATTACH;FMTTYPE=image/png:https://mbjcc.org/wp-content/uploads/2021/10/image.png
END:VEVENT
END:VCALENDAR