BEGIN:VCALENDAR
VERSION:2.0
PRODID:-//Miami Beach JCC - ECPv6.15.5//NONSGML v1.0//EN
CALSCALE:GREGORIAN
METHOD:PUBLISH
X-WR-CALNAME:Miami Beach JCC
X-ORIGINAL-URL:https://mbjcc.org
X-WR-CALDESC:Events for Miami Beach JCC
REFRESH-INTERVAL;VALUE=DURATION:PT1H
X-Robots-Tag:noindex
X-PUBLISHED-TTL:PT1H
BEGIN:VTIMEZONE
TZID:UTC
BEGIN:STANDARD
TZOFFSETFROM:+0000
TZOFFSETTO:+0000
TZNAME:UTC
DTSTART:20210101T000000
END:STANDARD
END:VTIMEZONE
BEGIN:VEVENT
DTSTART;VALUE=DATE:20210928
DTEND;VALUE=DATE:20210929
DTSTAMP:20260420T210535
CREATED:20210901T053037Z
LAST-MODIFIED:20211001T214306Z
UID:10000225-1632787200-1632873599@mbjcc.org
SUMMARY:Shemini Atzeret
DESCRIPTION:Shemini Atzeret
URL:https://mbjcc.org/event/shemini-atzeret/
LOCATION:FL\, United States
CATEGORIES:Special Event
ATTACH;FMTTYPE=image/jpeg:https://mbjcc.org/wp-content/uploads/2021/09/eric-rothermel-FoKO4DpXamQ-unsplash-scaled.jpg
END:VEVENT
END:VCALENDAR