BEGIN:VCALENDAR
VERSION:2.0
PRODID:-//Miami Beach JCC - ECPv6.15.5//NONSGML v1.0//EN
CALSCALE:GREGORIAN
METHOD:PUBLISH
X-WR-CALNAME:Miami Beach JCC
X-ORIGINAL-URL:https://mbjcc.org
X-WR-CALDESC:Events for Miami Beach JCC
REFRESH-INTERVAL;VALUE=DURATION:PT1H
X-Robots-Tag:noindex
X-PUBLISHED-TTL:PT1H
BEGIN:VTIMEZONE
TZID:America/New_York
BEGIN:DAYLIGHT
TZOFFSETFROM:-0500
TZOFFSETTO:-0400
TZNAME:EDT
DTSTART:20260308T070000
END:DAYLIGHT
BEGIN:STANDARD
TZOFFSETFROM:-0400
TZOFFSETTO:-0500
TZNAME:EST
DTSTART:20261101T060000
END:STANDARD
END:VTIMEZONE
BEGIN:VEVENT
DTSTART;TZID=America/New_York:20260120T103000
DTEND;TZID=America/New_York:20260120T113000
DTSTAMP:20260425T073510
CREATED:20251201T202801Z
LAST-MODIFIED:20251201T202801Z
UID:22394-1768905000-1768908600@mbjcc.org
SUMMARY:Enrichment Class at the J - Discovering Israel Through Yerucham’s Lens
DESCRIPTION:Event Details\nCommunity Programs – Special Enrichment Series at the J \nFree and Open to the Community \nDiscovering Israel Through Yeroham’s Lens \nTuesdays\, January 13\, 20\, 27 & February 3 at 10:30 AM \nCelebrate Yeroham’s 75th anniversary by discovering Israel through the stories of this remarkable desert town. Meet the people shaping its future-from food innovators and wellness leaders to drone technologists and musicians-and gain a fresh view of Israeli culture through this inspiring four-part virtual journey.
URL:https://mbjcc.org/event/enrichment-class-at-the-j-discovering-israel-through-yeruchams-lens/
LOCATION:Miami Beach JCC\, 4221 Pine Tree Drive\, Miami Beach\, FL\, 33140\, United States
END:VEVENT
END:VCALENDAR