BEGIN:VCALENDAR
VERSION:2.0
PRODID:-//Miami Beach JCC - ECPv6.15.5//NONSGML v1.0//EN
CALSCALE:GREGORIAN
METHOD:PUBLISH
X-WR-CALNAME:Miami Beach JCC
X-ORIGINAL-URL:https://mbjcc.org
X-WR-CALDESC:Events for Miami Beach JCC
REFRESH-INTERVAL;VALUE=DURATION:PT1H
X-Robots-Tag:noindex
X-PUBLISHED-TTL:PT1H
BEGIN:VTIMEZONE
TZID:UTC
BEGIN:STANDARD
TZOFFSETFROM:+0000
TZOFFSETTO:+0000
TZNAME:UTC
DTSTART:20240101T000000
END:STANDARD
END:VTIMEZONE
BEGIN:VEVENT
DTSTART;TZID=UTC:20240311T193000
DTEND;TZID=UTC:20240311T213000
DTSTAMP:20260421T120533
CREATED:20231026T221412Z
LAST-MODIFIED:20240223T000147Z
UID:20573-1710185400-1710192600@mbjcc.org
SUMMARY:Israeli Film Series: Cinema Sabaya
DESCRIPTION:RSVP\nPlease join us for this month’s Israeli Film Series screening of the movie – The LIttle Things –  on Monday\,Please join us for this month’s Israeli Film Series screening of the movie – Cinema Sabaya-  on Monday\, March 12 at 7:30 pm. \nIsrael’s official entry to the Academy Awards for Best International Feature Film and winner of three Israeli Academy Awards (Ophirs) including Best Film and Best Director. Sparked by her own experience in leading film workshops\, director Orit Fouks Rotem delivers an inspirational drama about the power of art to unify and create connections across cultures. Nine women enroll in a course with Rona (played by Dana Ivgy from MJFF 2015 film Zero Motivation)\, a young director hired to teach an introductory filmmaking course. Jewish and Arab\, secular and devout\, these nine women share their personal video footage with their classmates every week. They use their meetings and exercises to reflect on their roles as wives and mothers and pluck up the courage to imagine a different reality for themselves. With each lesson\, they are not only confronted with the stark differences in their circumstances\, but also by their elements of connection. The result is both an illuminating lesson in empathy and a beautiful portrait of women bridging the cultural divide and gathering in sisterhood.
URL:https://mbjcc.org/event/cinema-sabaya/
LOCATION:Miami Beach JCC\, 4221 Pine Tree Drive\, Miami Beach\, FL\, 33140\, United States
CATEGORIES:arts + culture + ideas,Films,Israeli Film Series
ATTACH;FMTTYPE=image/png:https://mbjcc.org/wp-content/uploads/2023/10/2023-Fim3-Website-Event-Headers-Template.png
END:VEVENT
END:VCALENDAR